BEGIN:VCALENDAR
VERSION:2.0
PRODID:-//ChamberMaster//Event Calendar 2.0//EN
METHOD:PUBLISH
X-PUBLISHED-TTL:P3D
REFRESH-INTERVAL:P3D
CALSCALE:GREGORIAN
BEGIN:VEVENT
DTSTART:20140926T160000Z
DTEND:20140927T230000Z
X-MICROSOFT-CDO-ALLDAYEVENT:FALSE
SUMMARY:Fundraiser for The Montessori School of Conifer at Blue Spruce Toys
DESCRIPTION:10% sales to The Montessori School
X-ALT-DESC;FMTTYPE=text/html:10% sales to The Montessori School
LOCATION:Blue Spruce Toys Green Valley Center 11873 Springs Rd Conifer
UID:e.692.3373
SEQUENCE:3
DTSTAMP:20260423T074400Z
URL:https://business.goconifer.com/events/details/fundraiser-for-the-montessori-school-of-conifer-at-blue-spruce-toys-09-26-2014-3373
END:VEVENT

END:VCALENDAR
