BEGIN:VCALENDAR
VERSION:2.0
PRODID:-//ChamberMaster//Event Calendar 2.0//EN
METHOD:PUBLISH
X-PUBLISHED-TTL:P3D
REFRESH-INTERVAL:P3D
CALSCALE:GREGORIAN
BEGIN:VEVENT
DTSTART:20120520T230000Z
DTEND:20120521T023000Z
X-MICROSOFT-CDO-ALLDAYEVENT:FALSE
SUMMARY:Fundraiser for Mountain Resource Center: "Neighbors Helping Neighbors"
DESCRIPTION:"Neighbors Helping Neighbors" is the theme of this fundraiser to benefit the Mountain Resource Center (MRC)\, an organization that continues to be on the front lines helping area residents impacted by the recent Lower North Fork fire.  All event proceeds will be directed to the MRC Disaster Relief Program.  Highlighting the fundraiser will be musical performances by The Pat Travis and Roger Falter Duo\, Open Space\, and Joe Bye.  Local businesses are donating goods and services for a Silent Auction.  Tickets are available for a $10 donation and can be purchased at The Ice House in downtown Evergreen\, the MRC offices on Kitty Drive in Conifer\, online at the mrcco.org\, or at the door the day of the event.
X-ALT-DESC;FMTTYPE=text/html:&quot\;Neighbors Helping Neighbors&quot\; is the theme of this fundraiser to benefit the Mountain Resource Center (MRC)\, an organization that continues to be on the front lines helping area residents impacted by the recent Lower North Fork fire.&nbsp\; All event proceeds will be directed to the MRC Disaster Relief Program.&nbsp\; Highlighting the fundraiser will be musical performances by The Pat Travis and Roger Falter Duo\, Open Space\, and Joe Bye.&nbsp\; Local businesses are donating goods and services for a Silent Auction.&nbsp\; Tickets are available for a $10 donation and can be purchased at The Ice House in downtown Evergreen\, the MRC offices on Kitty Drive in Conifer\, online at the mrcco.org\, or at the door the day of the event. 
LOCATION:The Ice House\, Downtown Evergreen
UID:e.692.1259
SEQUENCE:3
DTSTAMP:20260424T231931Z
URL:https://business.goconifer.com/events/details/fundraiser-for-mountain-resource-center-neighbors-helping-neighbors-05-20-2012-1259
END:VEVENT

END:VCALENDAR
