BEGIN:VCALENDAR
VERSION:2.0
PRODID:-//ChamberMaster//Event Calendar 2.0//EN
METHOD:PUBLISH
X-PUBLISHED-TTL:P3D
REFRESH-INTERVAL:P3D
CALSCALE:GREGORIAN
BEGIN:VEVENT
DTSTART:20141114T170000Z
DTEND:20141116T000000Z
X-MICROSOFT-CDO-ALLDAYEVENT:FALSE
SUMMARY:Fundraiser for Elk Creek Elementary at Blue Spruce Toys
DESCRIPTION:Fundraiser!  Come do your holiday shopping and support Elk Creek Elementary! 10% pre-tax purchases by associated customers will be donated to Elk Creek PTA
X-ALT-DESC;FMTTYPE=text/html:Fundraiser! &nbsp\;Come do your holiday shopping and support Elk Creek Elementary!&nbsp\;10% pre-tax purchases by associated customers will be donated to Elk Creek PTA
LOCATION:Blue Spruce Toys Green Valley Center 11873 Springs Rd\, Conifer
UID:e.692.3391
SEQUENCE:3
DTSTAMP:20260423T044657Z
URL:https://business.goconifer.com/events/details/fundraiser-for-elk-creek-elementary-at-blue-spruce-toys-11-14-2014-3391
END:VEVENT

END:VCALENDAR
