BEGIN:VCALENDAR
VERSION:2.0
PRODID:-//ChamberMaster//Event Calendar 2.0//EN
METHOD:PUBLISH
X-PUBLISHED-TTL:P3D
REFRESH-INTERVAL:P3D
CALSCALE:GREGORIAN
BEGIN:VEVENT
DTSTART:20250418T133000Z
DTEND:20250419T030000Z
X-MICROSOFT-CDO-ALLDAYEVENT:FALSE
SUMMARY:Friday Morning Beginner Hikes
DESCRIPTION:We understand getting outside on your own can be daunting. Join our flock to get yourself outside and moving your body! Speed and trail difficulty will be on the easier side\, but all hiking abilities are welcome to join us!?\n\n\n\n$8 per person age 16 and older\, $3 per person ages 5-16. These hikes are included for free with a Gaggle or Golden Egg membership.\n\n\n\nBelow is the upcoming schedule. Exact meeting point and trails will be emailed once you are registered. These hikes occur on Fridays from 7:30 - 9:00am.\n\n\n\nMarch 7: Mount Falcon Park\n\nMarch 14: Meyer Ranch Park\n\nMarch 21: No Hike This Week\n\nMarch 28: Matthew/Winters Park\n\nApril 4: Flying J Ranch Park\n\nApril 11: South Valley Ranch Park\n\nApril 18: Beaver Ranch Park\n\nApril 25: Alderfer/Three Sisters Park\n\n\n\nMore Dates coming soon!\n\n \n\n*Winter hiking often requires more equipment to safely complete a hike. We will advise what gear we think is necessary in a confirmation email the day before the hike you have signed up for. We have gear to rent if you do not have what you need to stay safe and have a fun hike!\n\n?\n\nCancellation Policy: GeesE has the discretion to cancel any hikes due to weather and will typically cancel a hike if the temperature is below freezing (32 degrees Fahrenheit)\, with or without windchill\, or if roads are unsafe to travel on. In these instances\, you may retain the credit to use on another hike\, or receive a refund. If you cancel before 24 hours before the start of the hike\, you will receive a refund. Cancellations within 24 hours of the beginning of the hike will not qualify for a refund.
X-ALT-DESC;FMTTYPE=text/html:<div><span style="font-size:12px"><span style="font-family:arial\,helvetica\,sans-serif"><span style="background-color:rgb(255\, 254\, 249)">We understand getting outside on your own can be daunting. Join our flock to get yourself outside and moving your body! Speed and trail difficulty will be on the easier side\, but all hiking abilities are welcome to join us!?<br />\n<br />\n$8 per person age 16 and older\, $3 per person ages 5-16. These hikes are included for free with a Gaggle or Golden Egg membership.<br />\n<br />\nBelow is the upcoming schedule. Exact meeting point and trails will be emailed once you are registered. These hikes occur on Fridays from 7:30 - 9:00am.<br />\n<br />\nMarch 7: Mount Falcon Park<br />\nMarch 14: Meyer Ranch Park<br />\nMarch 21: No Hike This Week<br />\nMarch 28: Matthew/Winters Park<br />\nApril 4: Flying J Ranch Park<br />\nApril 11: South Valley Ranch Park<br />\nApril 18: Beaver Ranch Park<br />\nApril 25: Alderfer/Three Sisters Park<br />\n<br />\nMore Dates coming soon!</span></span></span><br />\n&nbsp\;</div>\n\n<p class="font_7 wixui-rich-text__text" style="background: transparent\; border: 0px\; outline: 0px\; padding: 0px\; vertical-align: baseline\; pointer-events: auto\; font-size: 16px\; line-height: 1.8em\; color: rgb(var(--color_15))\; margin-block: 0px\; margin: 0px\;"><span style="font-size:12px"><span style="font-family:arial\,helvetica\,sans-serif"><span class="wixui-rich-text__text" style="background:transparent\; border:0px\; margin:0px\; outline:0px\; padding:0px\; vertical-align:baseline"><span class="wixui-rich-text__text" style="background:transparent\; border:0px\; margin:0px\; outline:0px\; padding:0px\; vertical-align:baseline"><strong class="wixui-rich-text__text" style="background:transparent\; border:0px\; font-weight:bold\; margin:0px\; outline:0px\; padding:0px\; vertical-align:baseline"><span class="wixui-rich-text__text" style="background:transparent\; border:0px\; margin:0px\; outline:0px\; padding:0px\; vertical-align:baseline">*Winter hiking often requires more equipment to safely complete a hike. We will advise what gear we think is necessary in a confirmation email the day before the hike you have signed up for. We have gear to rent if you do not have what you need to stay safe and have a fun hike!</span></strong></span></span></span></span></p>\n\n<p class="font_7 wixui-rich-text__text" style="background: transparent\; border: 0px\; outline: 0px\; padding: 0px\; vertical-align: baseline\; pointer-events: auto\; font-size: 16px\; line-height: 1.8em\; color: rgb(var(--color_15))\; margin-block: 0px\; margin: 0px\;"><span style="font-size:12px"><span style="font-family:arial\,helvetica\,sans-serif"><span class="wixui-rich-text__text" style="background:transparent\; border:0px\; margin:0px\; outline:0px\; padding:0px\; vertical-align:baseline"><span class="wixui-rich-text__text" style="background:transparent\; border:0px\; margin:0px\; outline:0px\; padding:0px\; vertical-align:baseline"><strong class="wixui-rich-text__text" style="background:transparent\; border:0px\; font-weight:bold\; margin:0px\; outline:0px\; padding:0px\; vertical-align:baseline"><span class="wixui-rich-text__text" style="background:transparent\; border:0px\; margin:0px\; outline:0px\; padding:0px\; vertical-align:baseline">?</span></strong></span></span></span></span></p>\n\n<p class="font_7 wixui-rich-text__text" style="background: transparent\; border: 0px\; outline: 0px\; padding: 0px\; vertical-align: baseline\; pointer-events: auto\; font-size: 16px\; line-height: 1.8em\; color: rgb(var(--color_15))\; margin-block: 0px\; margin: 0px\;"><span style="font-size:12px"><span style="font-family:arial\,helvetica\,sans-serif"><span class="wixui-rich-text__text" style="background:transparent\; border:0px\; margin:0px\; outline:0px\; padding:0px\; vertical-align:baseline"><span class="wixui-rich-text__text" style="background:transparent\; border:0px\; margin:0px\; outline:0px\; padding:0px\; vertical-align:baseline"><strong class="wixui-rich-text__text" style="background:transparent\; border:0px\; font-weight:bold\; margin:0px\; outline:0px\; padding:0px\; vertical-align:baseline"><span class="wixui-rich-text__text" style="background:transparent\; border:0px\; margin:0px\; outline:0px\; padding:0px\; vertical-align:baseline">Cancellation Policy: GeesE has the discretion to cancel any hikes due to weather and will typically cancel a hike if the temperature is below freezing (32 degrees Fahrenheit)\, with or without windchill\, or if roads are unsafe to travel on. In these instances\, you may retain the credit to use on another hike\, or receive a refund. If&nbsp\;<span class="wixui-rich-text__text" style="background:transparent\; border:0px\; margin:0px\; outline:0px\; padding:0px\; text-decoration-line:underline\; vertical-align:baseline">you&nbsp\;</span>cancel before 24 hours before the start of the hike\, you will receive a refund. Cancellations within 24 hours of the beginning of the hike will not qualify for a refund.&nbsp\;</span></strong></span></span></span></span></p>\n
LOCATION:Each week we will be hiking in different Jefferson County Open Space Parks. Exact meeting point and trails will be emailed once you are registered. March 7: Mount Falcon Park March 14: Meyer Ranch Park March 21: No Hike This Week March 28: Matthew/Winters Park April 4: Flying J Ranch Park April 11: South Valley Ranch Park April 18: Beaver Ranch Park April 25: Alderfer/Three Sisters Park More Dates coming soon!
UID:e.692.46271
SEQUENCE:3
DTSTAMP:20260425T232014Z
URL:https://business.goconifer.com/events/details/friday-morning-beginner-hikes-04-18-2025-46271
END:VEVENT

END:VCALENDAR
