BEGIN:VCALENDAR
VERSION:2.0
PRODID:-//ChamberMaster//Event Calendar 2.0//EN
METHOD:PUBLISH
X-PUBLISHED-TTL:P3D
REFRESH-INTERVAL:P3D
CALSCALE:GREGORIAN
BEGIN:VEVENT
DTSTART:20200421T190000Z
DTEND:20200421T200000Z
X-MICROSOFT-CDO-ALLDAYEVENT:FALSE
SUMMARY:Free Webinar: Neck Pain Management
DESCRIPTION:Over 80% of the population experiences neck pain at one time or another. If you are one of those people\, join us for a FREE online educational webinar discussing neck pain management.\n\nPhysical Therapist Ashley Carter will review common causes of neck pain\, provide suggestions for how to improve your pain\, and provide stretches/exercises that you can try at home.\n\nThis webinar will be online using Zoom meeting\, and our next webinar is Tuesday April 21st at 1pm.\n\nRegister at https://us02web.zoom.us/ /tZApc-upqz4rH9fNhh3MSw_ZmTggE6buO
X-ALT-DESC;FMTTYPE=text/html:<span style="background-color:rgb(255\, 255\, 255)\; color:rgb(28\, 30\, 33)\; font-family:helvetica\,arial\,sans-serif\; font-size:14px">Over 80% of the population experiences neck pain at one time or another. If you are one of those people\, join us for a FREE online educational webinar discussing neck pain management.</span><br />\n<span style="background-color:rgb(255\, 255\, 255)\; color:rgb(28\, 30\, 33)\; font-family:helvetica\,arial\,sans-serif\; font-size:14px">Physical Therapist Ashley Carter will review common causes of neck pain\, provide suggestions for how to improve your pain\, and provide stretches/exercises that you can try at home.</span><br />\n<span style="background-color:rgb(255\, 255\, 255)\; color:rgb(28\, 30\, 33)\; font-family:helvetica\,arial\,sans-serif\; font-size:14px">This webinar will be online using Zoom meeting\, and our next webinar is Tuesday April 21st at 1pm.</span><br />\n<span style="background-color:rgb(255\, 255\, 255)\; color:rgb(28\, 30\, 33)\; font-family:helvetica\,arial\,sans-serif\; font-size:14px">Register at&nbsp\;</span><a href="https://us02web.zoom.us/meeting/register/tZApc-upqz4rH9fNhh3MSw_ZmTggE6buORup?fbclid=IwAR1z2FbFUMVLYdA1ZY5BU0Ldr-YJSbBm_aeHFjqhEFv95rNzCSD35r1Gnpo" rel="noopener nofollow" style="color: rgb(56\, 88\, 152)\; cursor: pointer\; text-decoration-line: none\; font-family: Helvetica\, Arial\, sans-serif\; font-size: 14px\; background-color: rgb(255\, 255\, 255)\;" target="_blank">https://us02web.zoom.us/&hellip\;/tZApc-upqz4rH9fNhh3MSw_ZmTggE6buO&hellip\;</a>
LOCATION:Zoom meeting online
UID:e.692.30778
SEQUENCE:3
DTSTAMP:20260426T033432Z
URL:https://business.goconifer.com/events/details/free-webinar-neck-pain-management-04-21-2020-30778
END:VEVENT

END:VCALENDAR
