BEGIN:VCALENDAR
VERSION:2.0
PRODID:-//ChamberMaster//Event Calendar 2.0//EN
METHOD:PUBLISH
X-PUBLISHED-TTL:P3D
REFRESH-INTERVAL:P3D
CALSCALE:GREGORIAN
BEGIN:VEVENT
DTSTART:20160628T190000Z
DTEND:20160628T200000Z
X-MICROSOFT-CDO-ALLDAYEVENT:FALSE
SUMMARY:FREE Kid's Writer's Workshops (Ages 8-12)
DESCRIPTION:Join us for FREE Kid's Writer's Workshops this summer at Conifer Library!  Kids ages 8-12 can polish up their creative writing skills through writing challenges and fun exercises each week.  Taught by an experienced Colorado certified teacher\, and founder/director of MindSpark Learning Community.  \n\n\n\nWorkshops are offered every Thursday from 4-5pm\, with the following exceptions:\n\n \n\nJuly 12:  NO WORKSHOP
X-ALT-DESC;FMTTYPE=text/html:<span style="background-color:rgb(255\, 255\, 255)\; color:rgb(51\, 51\, 51)\; font-family:sans-serif\,arial\,verdana\,trebuchet ms\; font-size:13px">Join us for FREE Kid&#39\;s Writer&#39\;s Workshops this summer at Conifer Library! &nbsp\;Kids ages 8-12 can polish up their creative writing skills through writing challenges and fun exercises each week. &nbsp\;Taught by an experienced Colorado certified teacher\, and founder/director of MindSpark Learning Community. &nbsp\;</span><br />\n<br />\n<span style="background-color:rgb(255\, 255\, 255)\; color:rgb(51\, 51\, 51)\; font-family:sans-serif\,arial\,verdana\,trebuchet ms\; font-size:13px">Workshops are offered every Thursday from 4-5pm\, with the following exceptions:</span>\n\n<div>&nbsp\;</div>\n\n<div><span style="background-color:rgb(255\, 255\, 255)\; color:rgb(51\, 51\, 51)\; font-family:sans-serif\,arial\,verdana\,trebuchet ms\; font-size:13px">July 12: &nbsp\;NO WORKSHOP</span></div>\n
LOCATION:Evergreen Library
UID:e.692.18804
SEQUENCE:3
DTSTAMP:20260421T211540Z
URL:https://business.goconifer.com/events/details/free-kid-s-writer-s-workshops-ages-8-12-06-28-2016-18804
END:VEVENT

END:VCALENDAR
