BEGIN:VCALENDAR
VERSION:2.0
PRODID:-//ChamberMaster//Event Calendar 2.0//EN
METHOD:PUBLISH
X-PUBLISHED-TTL:P3D
REFRESH-INTERVAL:P3D
CALSCALE:GREGORIAN
BEGIN:VEVENT
DTSTART:20160623T220000Z
DTEND:20160623T230000Z
X-MICROSOFT-CDO-ALLDAYEVENT:FALSE
SUMMARY:FREE Kid's Writer's Workshops (Ages 8-12)
DESCRIPTION:Join us for FREE Kid's Writer's Workshops this summer at Conifer Library!  Kids ages 8-12 can polish up their creative writing skills through writing challenges and fun exercises each week.  Taught by an experienced Colorado certified teacher\, and founder/director of MindSpark Learning Community.  \n\n\n\nWorkshops are offered every Thursday from 4-5pm\, with the following exceptions:\n\n\n\nJune 16:  NO WORKSHOP\n\nJuly 7:  NO WORKSHOP\n\nJuly 14:  NO WORKSHOP
X-ALT-DESC;FMTTYPE=text/html:Join us for FREE Kid&#39\;s Writer&#39\;s Workshops this summer at Conifer Library! &nbsp\;Kids ages 8-12 can polish up their creative writing skills through writing challenges and fun exercises each week. &nbsp\;Taught by an experienced Colorado certified teacher\, and founder/director of MindSpark Learning Community. &nbsp\;<br />\n<br />\nWorkshops are offered every Thursday from 4-5pm\, with the following exceptions:<br />\n<br />\nJune 16: &nbsp\;NO WORKSHOP<br />\nJuly 7: &nbsp\;NO WORKSHOP<br />\nJuly 14: &nbsp\;NO WORKSHOP
LOCATION:Conifer Library
UID:e.692.18795
SEQUENCE:3
DTSTAMP:20260421T211438Z
URL:https://business.goconifer.com/events/details/free-kid-s-writer-s-workshops-ages-8-12-06-23-2016-18795
END:VEVENT

END:VCALENDAR
