BEGIN:VCALENDAR
VERSION:2.0
PRODID:-//ChamberMaster//Event Calendar 2.0//EN
METHOD:PUBLISH
X-PUBLISHED-TTL:P3D
REFRESH-INTERVAL:P3D
CALSCALE:GREGORIAN
BEGIN:VEVENT
DTSTART:20160630T190000Z
DTEND:20160630T210000Z
X-MICROSOFT-CDO-ALLDAYEVENT:FALSE
SUMMARY:FREE Junior Scientist Workshop (Ages 4-7)
DESCRIPTION:Join us at Evergreen Library for these FREE summer workshops!  Children ages 4-7 and their parent or caregiver can explore science together at the Junior Scientist Workshops\, sponsored by MindSpark Learning Community.  Each week features a different theme and includes take-home projects\, investigations and lots of hands-on activities!  \n\n\n\nJoin us on Thursdays throughout the summer\, with the following exception:\n\nJuly 14:  NO WORKSHOP
X-ALT-DESC;FMTTYPE=text/html:Join us at Evergreen Library for these FREE summer workshops! &nbsp\;Children ages 4-7 and their parent or caregiver can explore science together at the Junior Scientist Workshops\, sponsored by MindSpark Learning Community. &nbsp\;Each week features a different theme and includes take-home projects\, investigations and lots of hands-on activities! &nbsp\;<br />\n<br />\nJoin us on Thursdays throughout the summer\, with the following exception:<br />\nJuly 14: &nbsp\;NO WORKSHOP
LOCATION:Evergreen Library
UID:e.692.18786
SEQUENCE:3
DTSTAMP:20260421T222747Z
URL:https://business.goconifer.com/events/details/free-junior-scientist-workshop-ages-4-7-06-30-2016-18786
END:VEVENT

END:VCALENDAR
