BEGIN:VCALENDAR
VERSION:2.0
PRODID:-//ChamberMaster//Event Calendar 2.0//EN
METHOD:PUBLISH
X-PUBLISHED-TTL:P3D
REFRESH-INTERVAL:P3D
CALSCALE:GREGORIAN
BEGIN:VEVENT
DTSTART:20141004T160000Z
DTEND:20141004T230000Z
X-MICROSOFT-CDO-ALLDAYEVENT:FALSE
SUMMARY:Free Halloween Costume Swap
DESCRIPTION:Join Macaroni Kid Evergreen/Bailey/Conifer and Twigs at Twigs Children's Consignment in Evergreen for a free halloween Costume Swap. Bring in your gently used\, clean costume and exchange it for a different one! If you bring your costume in before September 30th you can get entry to the Pre-Swap to get first pick of costumes!
X-ALT-DESC;FMTTYPE=text/html:Join Macaroni Kid Evergreen/Bailey/Conifer and Twigs at Twigs Children&#39\;s Consignment in Evergreen for a free halloween Costume Swap. Bring in your gently used\, clean costume and exchange it for a different one! If you bring your costume in before September 30th you can get entry to the Pre-Swap to get first pick of costumes!
LOCATION:Twigs Children's Consignment\, Downtown Evergreen 4600 Plettner Ln\, Evergreen
UID:e.692.3389
SEQUENCE:3
DTSTAMP:20260423T080044Z
URL:https://business.goconifer.com/events/details/free-halloween-costume-swap-10-04-2014-3389
END:VEVENT

END:VCALENDAR
