BEGIN:VCALENDAR
VERSION:2.0
PRODID:-//ChamberMaster//Event Calendar 2.0//EN
METHOD:PUBLISH
X-PUBLISHED-TTL:P3D
REFRESH-INTERVAL:P3D
CALSCALE:GREGORIAN
BEGIN:VEVENT
DTSTART:20160316T000000Z
DTEND:20160316T013000Z
X-MICROSOFT-CDO-ALLDAYEVENT:FALSE
SUMMARY:Free Educational Financial Seminars
DESCRIPTION:401K and IRA: Do's and Don'ts\n\nPresented by Pat Frederiksen of Smarter Women Colorado and Fuel Financial
X-ALT-DESC;FMTTYPE=text/html:401K and IRA: Do&#39\;s and Don&#39\;ts<br />\nPresented by Pat Frederiksen of Smarter Women Colorado and Fuel Financial
LOCATION:Centennial Bank & Trust 26679 Pleasant Park Rd Conifer
UID:e.692.17129
SEQUENCE:3
DTSTAMP:20260422T004213Z
URL:https://business.goconifer.com/events/details/free-educational-financial-seminars-03-15-2016-17129
END:VEVENT

END:VCALENDAR
