BEGIN:VCALENDAR
VERSION:2.0
PRODID:-//ChamberMaster//Event Calendar 2.0//EN
METHOD:PUBLISH
X-PUBLISHED-TTL:P3D
REFRESH-INTERVAL:P3D
CALSCALE:GREGORIAN
BEGIN:VEVENT
DTSTART:20160311T004500Z
DTEND:20160311T020000Z
X-MICROSOFT-CDO-ALLDAYEVENT:FALSE
SUMMARY:Free Educational Financial Seminars
DESCRIPTION:Long Term Care / Retirement Planning \n\nPresented by Diana Jansen of New York Life
X-ALT-DESC;FMTTYPE=text/html:Long Term Care / Retirement Planning&nbsp\;<br />\nPresented by Diana Jansen of New York Life
LOCATION:Centennial Bank & Trust 26679 Pleasant Park Rd Conifer
UID:e.692.17128
SEQUENCE:3
DTSTAMP:20260422T004207Z
URL:https://business.goconifer.com/events/details/free-educational-financial-seminars-03-10-2016-17128
END:VEVENT

END:VCALENDAR
