BEGIN:VCALENDAR
VERSION:2.0
PRODID:-//ChamberMaster//Event Calendar 2.0//EN
METHOD:PUBLISH
X-PUBLISHED-TTL:P3D
REFRESH-INTERVAL:P3D
CALSCALE:GREGORIAN
BEGIN:VEVENT
DTSTART:20160310T004500Z
DTEND:20160310T020000Z
X-MICROSOFT-CDO-ALLDAYEVENT:FALSE
SUMMARY:Free Educational Financial Seminars
DESCRIPTION:The 2-3-4 Financial Concept - A simpler and smarter way to make financial decisions about your future. Presented by Charles Harrison / AXA Equitable Life Insurance Company of New York
X-ALT-DESC;FMTTYPE=text/html:The 2-3-4 Financial Concept - A simpler and smarter way to make financial decisions about your future. Presented by Charles Harrison / AXA Equitable Life Insurance Company of New York
LOCATION:Centennial Bank and Trust 26679 Pleasant Park Road Conifer
UID:e.692.17127
SEQUENCE:3
DTSTAMP:20260422T004329Z
URL:https://business.goconifer.com/events/details/free-educational-financial-seminars-03-09-2016-17127
END:VEVENT

END:VCALENDAR
