BEGIN:VCALENDAR
VERSION:2.0
PRODID:-//ChamberMaster//Event Calendar 2.0//EN
METHOD:PUBLISH
X-PUBLISHED-TTL:P3D
REFRESH-INTERVAL:P3D
CALSCALE:GREGORIAN
BEGIN:VEVENT
DTSTART:20160706T160000Z
DTEND:20160706T180000Z
X-MICROSOFT-CDO-ALLDAYEVENT:FALSE
SUMMARY:Free cooking and nutrition class: Cooking Matters for Adults
DESCRIPTION:Oh Yum! FREE cooking & nutrition class for adults at the Mountain Resource Center!\nWednesdays 10:00am-12:00pm June 1st-July 6th\nThe 6-class Cooking Matters for Adults course includes:\n\n  Hands-on cooking lessons\n\n  A free workbook full of tasty recipes and simple tips to eat healthy on a budget\n\n  Free take-home ingredients and helpful kitchen utensils to try the class recipes at home\n\n  Fun atmosphere to share and learn\n\nPlease register with Shellie McKeown\n(303) 838-7552 ext. 36 or shellie@mrcco.org by May 27th
X-ALT-DESC;FMTTYPE=text/html:<div>Oh Yum! FREE cooking &amp\; nutrition class for adults at the Mountain Resource Center!\n<div>Wednesdays 10:00am-12:00pm June 1st-July 6th</div>\nThe 6-class Cooking Matters for Adults course includes:</div>\n\n<div style="margin-left:18.0pt">&middot\;&nbsp\;Hands-on cooking lessons</div>\n\n<div style="margin-left:18.0pt">&middot\;&nbsp\;A free workbook full of tasty recipes and simple tips to eat healthy on a budget</div>\n\n<div style="margin-left:18.0pt">&middot\; Free take-home ingredients and helpful kitchen utensils to try the class recipes at home</div>\n\n<div style="margin-left:18.0pt">&middot\;&nbsp\;Fun atmosphere to share and learn</div>\n\n<div>Please register with Shellie McKeown</div>\n(303) 838-7552 ext. 36 or shellie@mrcco.org by May 27th
LOCATION:Mountain Resource Center 11030 Kitty Drive\, Conifer (303) 838-7552 ext. 36
UID:e.692.18139
SEQUENCE:3
DTSTAMP:20260421T201109Z
URL:https://business.goconifer.com/events/details/free-cooking-and-nutrition-class-cooking-matters-for-adults-07-06-2016-18139
END:VEVENT

END:VCALENDAR
