BEGIN:VCALENDAR
VERSION:2.0
PRODID:-//ChamberMaster//Event Calendar 2.0//EN
METHOD:PUBLISH
X-PUBLISHED-TTL:P3D
REFRESH-INTERVAL:P3D
CALSCALE:GREGORIAN
BEGIN:VEVENT
DTSTART:20130813T220000Z
DTEND:20130816T010000Z
X-MICROSOFT-CDO-ALLDAYEVENT:FALSE
SUMMARY:Free Audition Workshop at "The Venue Theatre Company" in Conifer
DESCRIPTION:"The Venue Theatre Company"\, Conifer's newest theatre education home\, opens its doors to the community on Tuesday\, Aug 13th with a week of free high school workshops and auditions for the fall production of "Hairspray". The fall performance of "Hairspray" will be the first performance in the beautiful new theatre\, "The Venue Theatre Company"\, located in the Conifer Safeway Center.\n\n	\n\n	"The Venue's" opening week will begin Tuesday\, August 13th\, with 3 days of audition workshops\, Tuesday - Thursday\, August 13 - 15\, 4:00 - 7:00 PM. \n\n	\n\n	Free Audition Workshops include vocal work\, monologue reading\, choreography\, and more. The workshops are open to any and all high school students interested in musical theatre. \n\n	\n\n	"Hairspray" character auditions will then be held Saturday August 17\, at 9:00.
X-ALT-DESC;FMTTYPE=text/html:<p class="MsoNormal">\n	<span style="font-family: \;">&quot\;The Venue Theatre Company&quot\;\, Conifer&#39\;s newest theatre education home\, opens its doors to the community on Tuesday\, Aug 13th with a week of free high school workshops and auditions for the fall production of &quot\;Hairspray&quot\;.&nbsp\;The fall performance of &quot\;Hairspray&quot\; will be the first performance in the beautiful new theatre\, &quot\;The Venue Theatre Company&quot\;\, located in the Conifer Safeway Center.<br />\n	<br />\n	&quot\;The Venue&#39\;s&quot\;&nbsp\;opening week will begin&nbsp\;Tuesday\, August 13th\, with 3 days of audition workshops\, Tuesday - Thursday\, August 13 - 15\, 4:00 - 7:00 PM.&nbsp\;<br />\n	<br />\n	Free Audition Workshops&nbsp\;include vocal work\, monologue reading\, choreography\, and more. The workshops are open to any and all high school students interested in musical theatre.&nbsp\;<br />\n	<br />\n	&quot\;Hairspray&quot\;&nbsp\;character auditions will then be held Saturday August 17\, at 9:00.</span></p>\n
LOCATION:"The Venue Theatre Company"\, 27182 Main Street #130\, Conifer\, 80433
UID:e.692.1496
SEQUENCE:3
DTSTAMP:20260424T020622Z
URL:https://business.goconifer.com/events/details/free-audition-workshop-at-the-venue-theatre-company-in-conifer-08-13-2013-1496
END:VEVENT

END:VCALENDAR
