BEGIN:VCALENDAR
VERSION:2.0
PRODID:-//ChamberMaster//Event Calendar 2.0//EN
METHOD:PUBLISH
X-PUBLISHED-TTL:P3D
REFRESH-INTERVAL:P3D
CALSCALE:GREGORIAN
BEGIN:VEVENT
DTSTART;VALUE=DATE:20260411
DTEND;VALUE=DATE:20260413
TRANSP:TRANSPARENT
X-MICROSOFT-CDO-ALLDAYEVENT:TRUE
SUMMARY:Foothills Home\, Garden & Lifestyle Show
DESCRIPTION:This show has been a cooperation between the \n\nEvergreen Rotary and Conifer Rotary Clubs for many years. \n\nOur vendors love this show because the folks attending are definitely\n\nlooking for local companies to do business with. \n\nReserve your spot at www.foothillshomeshow.com\n\nuse promo code coniferchamber for a discount on your booth\n\n \n\nNet proceeds are distributed as grants for charitable causes through the Evergreen and Conifer Rotary Foundations\; more than $350\,000 has been raised since the first show in 2005. To learn more about these great organizations visit evergreenrotary.org or rotaryconifer.org.
X-ALT-DESC;FMTTYPE=text/html:<p style="text-align:center"><span style="background-color:transparent\; color:rgb(0\, 0\, 0)\; font-family:arial\,sans-serif\; font-size:16pt"><span style="font-size:18px">This show has been a cooperation between the&nbsp\;<br />\nEvergreen Rotary and Conifer Rotary Clubs for many years.&nbsp\;</span></span><br />\n<span style="font-size:14px"><em>Our vendors love this show because the folks attending are definitely<br />\nlooking for local companies to do business with.&nbsp\;</em><br />\n<span style="font-size:18px"><strong>Reserve your spot at www.foothillshomeshow.com</strong><br />\n<span style="font-size:14px">use promo code coniferchamber for a discount on your booth</span></span></span><br />\n&nbsp\;</p>\n\n<h2 style="text-align:center"><span style="font-size:18px">Net proceeds are distributed as grants for charitable causes through the Evergreen and Conifer Rotary Foundations\; more than $350\,000 has been raised since the first show in 2005.&nbsp\;To learn more about these great organizations visit&nbsp\;<a href="http://www.homeshowcolorado.com/Home/tabid/55/ctl/Edit/mid/452/Default.aspx?popUp=true" style="color: rgb(34\, 34\, 34)\; text-decoration-line: none\; overflow-wrap: break-word\;" target="_blank">evergreenrotary.org</a>&nbsp\;or&nbsp\;<a href="http://www.rotaryconifer.org/" style="color: rgb(34\, 34\, 34)\; text-decoration-line: none\; overflow-wrap: break-word\;" target="_blank">rotaryconifer.org</a>.</span></h2>\n
LOCATION:Conifer High School 10441 Highway 73 Conifer CO 80433
UID:e.692.48313
SEQUENCE:3
DTSTAMP:20260424T072512Z
URL:https://business.goconifer.com/events/details/foothills-home-garden-lifestyle-show-48313
END:VEVENT

END:VCALENDAR
