BEGIN:VCALENDAR
VERSION:2.0
PRODID:-//ChamberMaster//Event Calendar 2.0//EN
METHOD:PUBLISH
X-PUBLISHED-TTL:P3D
REFRESH-INTERVAL:P3D
CALSCALE:GREGORIAN
BEGIN:VEVENT
DTSTART:20130523T230000Z
DTEND:20130524T013000Z
X-MICROSOFT-CDO-ALLDAYEVENT:FALSE
SUMMARY:Five Chamber Mixer at Bandemere Speedway
DESCRIPTION:Five Chamber Mixer at Bandemere Speedway. \n\nEach Chamber will have five members driving a Bandemere Camero!\n\nLet's cheer on the Conifer Chamber!
X-ALT-DESC;FMTTYPE=text/html:<br />\n<span style="font-weight: bold\; language: EN\;"><span style="font-size: 9pt\;"><span style="font-family: arial\;">Five Chamber Mixer at Bandemere Speedway.&nbsp\;<br />\nEach Chamber will have five members driving a Bandemere Camero!</span></span></span><br />\n<strong>Let&#39\;s cheer on the Conifer Chamber!</strong><br />\n&nbsp\;<br />\n
LOCATION:Bandemere Speedway
UID:e.692.1467
SEQUENCE:3
DTSTAMP:20260424T055303Z
URL:https://business.goconifer.com/events/details/five-chamber-mixer-at-bandemere-speedway-05-23-2013-1467
END:VEVENT

END:VCALENDAR
