BEGIN:VCALENDAR
VERSION:2.0
PRODID:-//ChamberMaster//Event Calendar 2.0//EN
METHOD:PUBLISH
X-PUBLISHED-TTL:P3D
REFRESH-INTERVAL:P3D
CALSCALE:GREGORIAN
BEGIN:VEVENT
DTSTART:20130615T150000Z
DTEND:20130615T220000Z
X-MICROSOFT-CDO-ALLDAYEVENT:FALSE
SUMMARY:First Craft Festival at Windy Point
DESCRIPTION:We have Antiques\, Jewelry\, Photography\, Americana\, Bird houses\, Hand Sewed Bags\, Bath Sets\, Feather Hair Pieces\, and allot more!!\n\nCome by and check out the great selection of items at great prices.\n\nDon't Forget to check out inside the store a Borgata that has more artist and craftsmen doing their crafts inside.\n\nA day of fun!!!
X-ALT-DESC;FMTTYPE=text/html:We have Antiques\, Jewelry\, Photography\, Americana\, Bird houses\, Hand Sewed Bags\, Bath Sets\, Feather Hair Pieces\, and allot more!!<br />\nCome by and check out the great selection of items at great prices.<br />\nDon&#39\;t Forget to check out inside&nbsp\;the store a Borgata that has more artist and craftsmen doing their crafts inside.<br />\nA day of fun!!!<br />\n
LOCATION:Windy Point on the 285 Corridor next to the stop for gas 9064 south us hwy 285 Morrison\, co 80465
UID:e.692.1484
SEQUENCE:3
DTSTAMP:20260424T044002Z
URL:https://business.goconifer.com/events/details/first-craft-festival-at-windy-point-06-15-2013-1484
END:VEVENT

END:VCALENDAR
