BEGIN:VCALENDAR
VERSION:2.0
PRODID:-//ChamberMaster//Event Calendar 2.0//EN
METHOD:PUBLISH
X-PUBLISHED-TTL:P3D
REFRESH-INTERVAL:P3D
CALSCALE:GREGORIAN
BEGIN:VEVENT
DTSTART:20210620T150000Z
DTEND:20210620T220000Z
X-MICROSOFT-CDO-ALLDAYEVENT:FALSE
SUMMARY:First Annual Native Plant Sale
DESCRIPTION:The Nature Link is hosting a native plant sale on June 19 & 20 during the 285 Farmers Market! Feed your pollinators AND your soul by planting native plants\, shrubs and wildflowers in your garden. Plants for sale will be specific to our Rocky Mountain Foothill region and adapted for our high elevation. Be sure to stay and enjoy the 285 Farmer's Market and Craft Fair too!
X-ALT-DESC;FMTTYPE=text/html:<span style="color:rgb(111\, 114\, 135)\; font-family:neue plak\,-apple-system\,blinkmacsystemfont\,roboto\,helvetica neue\,helvetica\,tahoma\,arial\,sans-serif\; font-size:16px">The Nature Link is hosting a native plant sale on June 19 &amp\; 20 during the 285 Farmers Market! Feed your pollinators AND your soul by planting native plants\, shrubs and wildflowers in your garden. Plants for sale will be specific to our Rocky Mountain Foothill region and adapted for our high elevation. Be sure to stay and enjoy the 285 Farmer&#39\;s Market and Craft Fair too!</span>
LOCATION:30403 Kings Valley dr Suite 1-113 Conifer\, CO 80433 720-298-0942
UID:e.692.32868
SEQUENCE:3
DTSTAMP:20260426T013728Z
URL:https://business.goconifer.com/events/details/first-annual-native-plant-sale-06-20-2021-32868
END:VEVENT

END:VCALENDAR
