BEGIN:VCALENDAR
VERSION:2.0
PRODID:-//ChamberMaster//Event Calendar 2.0//EN
METHOD:PUBLISH
X-PUBLISHED-TTL:P3D
REFRESH-INTERVAL:P3D
CALSCALE:GREGORIAN
BEGIN:VEVENT
DTSTART:20260422T233000Z
DTEND:20260423T010000Z
X-MICROSOFT-CDO-ALLDAYEVENT:FALSE
SUMMARY:Financial Literacy workshop series - Steps to Financial Freedom
DESCRIPTION:Steps To Financial Freedom: an introduction to the building blocks of a sound financial plan plus some tax planning tips for individuals & businesses. The Evergreen public library will be hosting this educational workshop series that is free for the public. Please see all topics and dates below:\n\n\n\n2 special sessions will also be hosted by Devika Kamboh to mark Women's History month: Topic: Women & Wealth. Session 1 will be a webinar on Wednesday March 18 from 12pm -1.30pm and session 2 will be at the Conifer public library on Thursday March 26th from 4pm to 6pm. Light refreshments will be served at all in-person workshops.\n\n\n\nEvergreen Public Library workshop dates:\n\nMarch 11th - Steps To Financial Freedom: an introduction to the building blocks of a sound financial plan- from risk management & investments to retirement & estate planning. Leverage the role of insurance vehicles as key tools for risk mitigation and also protecting your social security income from excess taxation- In addition to property insurance & Car insurance\, why is it important to look at life insurance\, health insurance\, long term disability coverage\, Long term care insurance when creating a risk protection strategy. Tax payers   whether single\, married\, divorced\, widow/ widowers as well as business owners need to focus on unique financial challenges and risk exposures by creating a roadmap to financial wellbeing. Attendees will also learn to discern between different types of financial advisors and the importance of working with a Certified Financial Planner professional as your fiduciary. Consider retirement vehicles on a pretax and post-tax basis for individuals and business owners and how long term care planning can be critical to protect your hard earned savings & assets. This workshop will conclude with some basic estate planning tips.\n\n \n\nMarch 25th -  Understanding Insurance as a key foundation of a good financial plan: Life insurance\, Health insurance\, P&C\, Disability insurance & Long term care insurance and  how to use your group benefits. Difference between an HSA (Health Saving Account) and an FSA (Flexible savings account). Are you saying no to free group benefits from your employer or are you leaving free retirement Dollars on the table by not contributing to a qualified plan? \n\n \n\nApril 8th - Planning for a Tax free Retirement: Plan for your golden years using proven strategies to reduce taxes\, manage risk and ensure that you do not outlive your retirement income. Common myths about retirement assets & the role of long term care planning. Tax Tips to put more money in your pocket and how insurance\n\nvehicles can be designed using personal or business tax dollars to mitigate taxation to increase net income in your bank account!\n\n\n\nApril 22nd - Social Security Benefits Planning: avoiding tax pitfalls and taking key steps today to draw out maximum income during retirement. This workshop will cover key strategies to optimize Social Security income\; avoiding common & costly mistakes when applying for benefits\, minimizing taxes in retirement and on SS benefits\; Supplementing SS with tax efficient investment options to ensure your retirement is fully funded and leveraging insurance vehicles to rebalance your investment portfolio and trigger less taxation of this income stream.\n\n\n\nMay 6th - Planning for Long term care: a critical firewall for your retirement assets and estate planning goals. Do you only need this type of you care after age 65 or can a 20 year need it too? Understand the difference between LTC planning versus LTC insurance which is just one solution in this conversation. By what age should you start planning for these events? What resources does CO state provide and what type of resources and coverage is available at the federal level. Do you think Medicare covers this?\n\n \n\nMay 20th - Women & Wealth: key issues women need to focus on when creating a financial plan- with a special segment on divorce planning. Learn how to become an engaged\, informed & empowered decision maker when it comes to your personal financial wellbeing.
X-ALT-DESC;FMTTYPE=text/html:<span style="font-size:11pt"><strong>Steps To Financial Freedom: an introduction to the building blocks of a sound financial plan plus some tax planning tips for individuals &amp\; businesses.</strong> The Evergreen public library will be hosting this educational workshop series that is free for the public. Please see all topics and dates below:<br />\n<br />\n<strong>2 special sessions</strong> will also be hosted by Devika Kamboh to<strong> </strong>mark<strong> Women&#39\;s History month:&nbsp\;</strong></span><strong>Topic: Women &amp\; Wealth. <span style="font-size:12px">Session 1 will be a webinar on Wednesday March 18 from 12pm -1.30pm and session 2 will be&nbsp\;</span></strong><span style="font-size:12px">at the&nbsp\;<strong>Conifer public library</strong></span><span style="font-size:11pt"><span style="font-size:12px"><strong>&nbsp\;on Thursday March 26th from 4pm to 6pm. Light refreshments will be served at all in-person workshops.</strong></span><br />\n<br />\n<strong>Evergreen Public Library workshop dates:</strong><br />\n<strong>March 11<sup>th</sup>&nbsp\;- Steps To Financial Freedom:</strong> an introduction to the building blocks of a sound financial plan- from risk management &amp\; investments to retirement &amp\; estate planning.</span><span style="font-size:11pt">&nbsp\;Leverage the role of insurance vehicles as key tools for risk mitigation and also protecting your social security income from excess taxation- In addition to property insurance &amp\; Car insurance\, why is it important to look at life insurance\, health insurance\, long term disability coverage\, Long term care insurance when creating a risk protection strategy. Tax payers &ndash\; whether single\, married\, divorced\, widow/ widowers as well as business owners need to focus on unique financial challenges and risk exposures by creating a roadmap to financial wellbeing. Attendees will also learn to discern between different types of financial advisors and the importance of working with a Certified Financial Planner professional as your fiduciary. Consider retirement vehicles on a pretax and post-tax basis for individuals and business owners and how long term care planning can be critical to protect your hard earned savings &amp\; assets. This workshop will conclude with some basic estate planning tips.</span><br />\n&nbsp\;<br />\n<span style="font-size:11pt"><strong>March 25<sup>th</sup>&nbsp\;- &nbsp\;Understanding Insurance as a key foundation of a good financial plan:</strong> Life insurance\, Health insurance\, P&amp\;C\, Disability insurance &amp\; Long term care insurance and &nbsp\;how to use your group benefits. Difference between an HSA (Health Saving Account) and an FSA (Flexible savings account). Are you saying no to free group benefits from your employer or are you leaving free retirement Dollars on the table by not contributing to a qualified plan? </span><br />\n&nbsp\;<br />\n<strong><span style="font-size:11pt">April 8<sup>th</sup>&nbsp\;- Planning for a Tax free Retirement:&nbsp\;</span></strong>Plan for your golden years using proven strategies to reduce taxes\, manage risk and ensure that you do not outlive your retirement income. Common myths about retirement assets &amp\; the role of long term care planning. Tax Tips to put more money in your pocket and how insurance<br />\nvehicles can be designed using personal or business tax dollars to mitigate taxation to increase net income in your bank account!<br />\n<br />\n<span style="font-size:11pt"><strong>April 22<sup>nd</sup>&nbsp\;- Social Security Benefits Planning:</strong> avoiding tax pitfalls and taking key steps today to draw out&nbsp\;maximum income during retirement.&nbsp\;</span>This workshop will cover key strategies to optimize Social Security income\; avoiding common &amp\; costly mistakes when applying for benefits\, minimizing taxes in retirement and on SS benefits\; Supplementing SS with tax efficient investment options to ensure your retirement is fully funded and leveraging insurance vehicles to rebalance your investment portfolio and trigger less taxation of this income stream.<br />\n<br />\n<span style="font-size:11pt"><strong>May 6<sup>th</sup>&nbsp\;- Planning for Long term care: </strong>a critical firewall for your retirement assets and estate planning goals.&nbsp\;Do you only need this type of you care after age 65 or can a 20 year need it too? Understand the difference between LTC planning versus LTC insurance which is just one solution in this conversation. By what age should you start planning for these events? What resources does CO state provide and what type of resources and coverage is available at the federal level. Do you think Medicare covers this?</span><br />\n&nbsp\;<br />\n<span style="font-size:11pt"><strong>May 20th - Women &amp\; Wealth:</strong> key issues women need to focus on when creating a financial plan- with a special segment on divorce planning.&nbsp\;Learn how to become an engaged\, informed &amp\; empowered decision maker when it comes to your personal financial wellbeing.</span><br />\n&nbsp\;<br />\n&nbsp\;<br />\n<br />\n&nbsp\;<br />\n<br />\n&nbsp\;
LOCATION:Evergreen Public Library 5000 County Rd. 73\, Evergreen\, CO 80439
UID:e.692.48407
SEQUENCE:3
DTSTAMP:20260424T095855Z
URL:https://business.goconifer.com/events/details/financial-literacy-workshop-series-steps-to-financial-freedom-04-22-2026-48407
END:VEVENT

END:VCALENDAR
