BEGIN:VCALENDAR
VERSION:2.0
PRODID:-//ChamberMaster//Event Calendar 2.0//EN
METHOD:PUBLISH
X-PUBLISHED-TTL:P3D
REFRESH-INTERVAL:P3D
CALSCALE:GREGORIAN
BEGIN:VEVENT
DTSTART:20121006T150000Z
DTEND:20121006T180000Z
X-MICROSOFT-CDO-ALLDAYEVENT:FALSE
SUMMARY:Final EPRD Summer Trail Race Benefits Special Needs Program
DESCRIPTION:Evergreen Park & Recreation District (EPRD) wraps up its 2012 Summer Trail Race Series on Saturday\, Oct. 6\, with a family friendly pair of races that benefit EPRD's Special Needs programs.\n\n	The two races   a 10-mile out-and-back course and a 2-mile family-friendly Fun Run/Walk   start at 9 a.m. at Lair O' the Bear Park in Idledale. Runners are encouraged to arrive at least half an hour early.\n\n	10-Mile Race\n\n	Runners will face a steady ascent to the top of Lair O' the Bear Park and\, upon arriving at the end of Bear Creek Trail\, they will turn and run back to the finish line where they began.  Registration is $30 in advance / $35 race day.\n\n	Prizes are awarded to the top overall male and female\, as well as to the winner and runner-up for men and women in the following age divisions: Under 20\; 20-29\, 30-39\, 40-49\, 50-59 and 60+.\n\n	2-mile Fun Run/Walk\n\n	This family friendly 2-mile course will treat runners to a taste of the Rockies. Run/Walkers will follow a trail that is surrounded by mountains and that runs beside a flowing stream. Registration is $20 in advance / $25 race day. \n\n	Lair O' the Bear entrance off of Highway 74 in Idledale. Directions can be found at http://goo.gl/maps/oqfY5.\n\n	Learn more and register at http://bit.ly/NEvkgc. \n\n	For more information\, contact Maren Schreiber\, EPRD's Special Populations Coordinator\, at 720-880-1219 or mschreiber@eprd.co.\n\n	Evergreen Park and Recreation District's (EPRD) Special Needs Program contributes to the growth and development of persons with developmental disabilities and their families. It increases their opportunities to participate in community\, recreation\, leisure and cultural programs\, as well as providing activities to build daily living skills. Programs and services help prepare persons who are disabled to become as socially\, emotionally\, and intellectually independent as possible.\n\n	\n\n	About Evergreen Park & Recreation District (EPRD)\nThe Evergreen Park & Recreation District (EPRD) was formed in 1969 to serve the park and recreation needs of the communities of Evergreen\, Bergen Park\, Indian Hills\, Kittredge and Marshdale. The citizens of the EPRD area place high value in their parks\, recreation facilities and programs as an enhancement to the community's quality of life. This commitment is embodied in the District's strong parks and recreation system\, with its unique facilities such as Buchanan Park\, Buchanan Park Recreation Center\, Evergreen Lake House\, and Wulf Recreation Center.\n\n\n\nEPRD serves approximately 22\,000 people residing within its boundaries\, covering 50\,000 acres (78 square miles) in the foothills west of Denver. The District also offers affordable recreational options to non-district residents. Learn more at www.evergreenrecreation.com
X-ALT-DESC;FMTTYPE=text/html:<style type="text/css">\n</style>\n<style type="text/css">\n</style>\n<span new="" style="font-family: times\; font-size: 11pt\; mso-bidi-font-size: 10.0pt" times="">Evergreen Park &amp\; Recreation District (EPRD) wraps up its 2012 Summer Trail Race Series on Saturday\, Oct. 6\, with a family friendly pair of races that benefit EPRD&rsquo\;s Special Needs programs.</span>\n<p class="MsoNormal">\n	<span new="" style="font-family: times\; font-size: 11pt" times="">The two races &ndash\; a 10-mile out-and-back course and a 2-mile family-friendly Fun Run/Walk &ndash\; start at 9 a.m. at Lair O&#39\; the Bear Park in Idledale. Runners are encouraged to arrive at least half an hour early.</span></p>\n<p class="MsoNormal">\n	<b style="mso-bidi-font-weight: normal"><span new="" style="font-family: times\; font-size: 11pt" times="">10-Mile Race</span></b></p>\n<p class="MsoNormal">\n	<span new="" style="font-family: times\; font-size: 11pt" times="">Runners will face a steady ascent to the top of Lair O&#39\; the Bear Park and\, upon arriving at the end of Bear Creek Trail\, they will turn and run back to the finish line where they began.<span style="mso-spacerun: yes">&nbsp\; </span>Registration is $30 in advance / $35 race day.</span></p>\n<p class="MsoNormal">\n	<span new="" style="font-family: times\; font-size: 11pt\; mso-bidi-font-size: 10.0pt" times="">Prizes are awarded to the top overall male and female\, as well as to the winner and runner-up for men and women in the following age divisions: Under 20\; 20-29\, 30-39\, 40-49\, 50-59 and 60+.</span></p>\n<p class="MsoNormal" style="mso-outline-level: 4">\n	<b style="mso-bidi-font-weight: normal"><span new="" style="font-family: times\; font-size: 11pt\; mso-bidi-font-size: 10.0pt" times="">2-mile </span></b><b style="mso-bidi-font-weight: normal"><span new="" style="font-family: times\; font-size: 11pt" times="">Fun Run/Walk</span></b></p>\n<p class="MsoNormal">\n	<span new="" style="font-family: times\; font-size: 11pt" times="">This family friendly 2-mile course will treat runners to a taste of the Rockies. Run/Walkers will follow a trail that is surrounded by mountains and that runs beside a flowing stream. Registration is $20 in advance / $25 race day<b style="mso-bidi-font-weight: normal">. </b></span></p>\n<p class="MsoNormal">\n	<span new="" style="font-family: times\; font-size: 11pt" times="">Lair O&#39\; the Bear entrance off of Highway 74 in Idledale. Directions can be found at <a href="http://goo.gl/maps/oqfY5"><span style="color: blue\; mso-bidi-font-size: 12.0pt">http://goo.gl/maps/oqfY5</span></a>.</span></p>\n<p class="MsoNormal">\n	<span new="" style="font-family: times\; font-size: 11pt" times="">Learn more and register at <a href="http://bit.ly/NEvkgc"><span style="color: blue\; mso-bidi-font-size: 12.0pt">http://bit.ly/NEvkgc</span></a>. </span></p>\n<p class="MsoNormal">\n	<span new="" style="font-family: times\; font-size: 11pt" times="">For more information\, contact Maren Schreiber\, EPRD&rsquo\;s Special Populations Coordinator\, at 720-880-1219 or <a href="mailto:mschreiber@eprd.co"><span style="color: blue\; mso-bidi-font-size: 12.0pt">mschreiber@eprd.co</span></a>.</span></p>\n<p class="MsoNormal" style="margin: 0.1pt 0in\; mso-para-margin-top: .01gd\; mso-para-margin-right: 0in\; mso-para-margin-bottom: .01gd\; mso-para-margin-left: 0in">\n	<b style="mso-bidi-font-weight: normal"><span new="" style="font-family: times\; font-size: 11pt\; mso-bidi-font-size: 10.0pt" times="">Evergreen Park and Recreation District&#39\;s (EPRD) <a href="http://r20.rs6.net/tn.jsp?e=001Gt89GYRdyeUG6EG58fFqm5PDc70lOAm5_jx6Kqx12U2PtTc3agq1teVta84aksMT6Yw955phq8AjZwRc0Gdcuy-wxT6mxkyM30Vj2eUs_nhNFvb1za7NxDos30V7R-A0-2p-IC5ol8ClC5Hc8T0kVNbhk9nlRocqYi1M158KP-PHnw5VaezUUQ=="><span style="color: blue">Special Needs Program</span></a></span></b><span new="" style="font-family: times\; font-size: 11pt\; mso-bidi-font-size: 10.0pt" times=""> contributes to the growth and development of persons with developmental disabilities and their families. It increases their opportunities to participate in community\, recreation\, leisure and cultural programs\, as well as providing activities to build daily living skills. Programs and services help prepare persons who are disabled to become as socially\, emotionally\, and intellectually independent as possible.</span></p>\n<p class="MsoNormal" style="margin: 0.1pt 0in\; mso-para-margin-top: .01gd\; mso-para-margin-right: 0in\; mso-para-margin-bottom: .01gd\; mso-para-margin-left: 0in">\n	<br />\n	<b style="mso-bidi-font-weight: normal"><span new="" style="font-family: times\; font-size: 11pt\; mso-bidi-font-size: 10.0pt" times="">About Evergreen Park &amp\; Recreation District (EPRD)</span></b></p>\n<span new="" style="font-family: times\; font-size: 11pt\; mso-bidi-font-size: 10.0pt\; mso-fareast-font-family: cambria\; mso-fareast-theme-font: minor-latin" times="">The <a href="http://r20.rs6.net/tn.jsp?e=001Gt89GYRdyeUG6EG58fFqm5PDc70lOAm5_jx6Kqx12U2PtTc3agq1teVta84aksMT6Yw955phq8AjZwRc0Gdcuy-wxT6mxkyM30Vj2eUs_nhNFvb1za7NxCyWsGBezkK2"><span style="color: blue">Evergreen Park &amp\; Recreation District (EPRD)</span></a> was formed in 1969 to serve the park and recreation needs of the communities of Evergreen\, Bergen Park\, Indian Hills\, Kittredge and Marshdale. The citizens of the EPRD area place high value in their parks\, recreation facilities and programs as an enhancement to the community&#39\;s quality of life. This commitment is embodied in the District&#39\;s strong parks and recreation system\, with its unique facilities such as Buchanan Park\, Buchanan Park Recreation Center\, Evergreen Lake House\, and Wulf Recreation Center.<br />\n<br />\nEPRD serves approximately 22\,000 people residing within its boundaries\, covering 50\,000 acres (78 square miles) in the foothills west of Denver. The District also offers affordable recreational options to non-district residents. Learn more at <a href="http://r20.rs6.net/tn.jsp?e=001Gt89GYRdyeUG6EG58fFqm5PDc70lOAm5_jx6Kqx12U2PtTc3agq1teVta84aksMT6Yw955phq8AjZwRc0Gdcuy-wxT6mxkyM30Vj2eUs_nhNFvb1za7NxCyWsGBezkK2"><span style="color: blue">www.evergreenrecreation.com</span></a></span> 
LOCATION:Lair O' the Bear entrance off of Highway 74 in Idledale. Directions can be found at http://goo.gl/maps/oqfY5.
UID:e.692.1351
SEQUENCE:3
DTSTAMP:20260424T160357Z
URL:https://business.goconifer.com/events/details/final-eprd-summer-trail-race-benefits-special-needs-program-10-06-2012-1351
END:VEVENT

END:VCALENDAR
