BEGIN:VCALENDAR
VERSION:2.0
PRODID:-//ChamberMaster//Event Calendar 2.0//EN
METHOD:PUBLISH
X-PUBLISHED-TTL:P3D
REFRESH-INTERVAL:P3D
CALSCALE:GREGORIAN
BEGIN:VEVENT
DTSTART:20130221T230000Z
DTEND:20130222T020000Z
X-MICROSOFT-CDO-ALLDAYEVENT:FALSE
SUMMARY:FeBREWary Beer Tasting Event
DESCRIPTION:Join us for the \n\n	Second Annual FeBREWary Beer Tasting Event\n\n	\n\n	Ticket price includes beer sampling\, food\n\n	and a chance for door prizes.
X-ALT-DESC;FMTTYPE=text/html:<div align="center">\n	<span style="font-size: 18pt">Join us for the </span><br />\n	<span style="font-size: 24pt">Second Annual FeBREWary Beer Tasting Event</span></div>\n<div align="center">\n	<br />\n	<span style="font-size: 18pt">Ticket price includes beer sampling\, food<br />\n	and a chance for door prizes.</span></div>\n<div align="center">\n	&nbsp\;</div>
LOCATION:Los 3 Garcias Mexican Restaurant At Los 3 Garcias Restaurant (Towards the east end of the King Soopers Shopping Center\, 25567 Conifer Road\, Suite 120\, Conifer)
UID:e.692.1390
SEQUENCE:3
DTSTAMP:20260424T101701Z
URL:https://business.goconifer.com/events/details/febrewary-beer-tasting-event-02-21-2013-1390
END:VEVENT

END:VCALENDAR
