BEGIN:VCALENDAR
VERSION:2.0
PRODID:-//ChamberMaster//Event Calendar 2.0//EN
METHOD:PUBLISH
X-PUBLISHED-TTL:P3D
REFRESH-INTERVAL:P3D
CALSCALE:GREGORIAN
BEGIN:VEVENT
DTSTART:20140222T203000Z
DTEND:20140222T233000Z
X-MICROSOFT-CDO-ALLDAYEVENT:FALSE
SUMMARY:feBREWary Beer Tasting
DESCRIPTION:3rd Annual feBREWary Beer Tasting to benefit the Conifer Chamber's Scholarship fund.
X-ALT-DESC;FMTTYPE=text/html:3rd Annual feBREWary Beer Tasting to benefit the Conifer Chamber&#39\;s Scholarship fund.
LOCATION:Los 3 Garcias
UID:e.692.1777
SEQUENCE:3
DTSTAMP:20260423T172106Z
URL:https://business.goconifer.com/events/details/febrewary-beer-tasting-02-22-2014-1777
END:VEVENT

END:VCALENDAR
