BEGIN:VCALENDAR
VERSION:2.0
PRODID:-//ChamberMaster//Event Calendar 2.0//EN
METHOD:PUBLISH
X-PUBLISHED-TTL:P3D
REFRESH-INTERVAL:P3D
CALSCALE:GREGORIAN
BEGIN:VEVENT
DTSTART:20250625T233000Z
DTEND:20250626T000000Z
X-MICROSOFT-CDO-ALLDAYEVENT:FALSE
SUMMARY:Family Yoga
DESCRIPTION:Just like Neil Diamond said\, "Pack up the babies and grab the old ladies. And everyone goes!"  It is a fun practice of yoga poses\, music and games with breathing techniques and movement for physical and emotional well-being. Family Yoga is a wonderful opportunity for family members of all ages. We will create shapes together like a star\, circle\, or flower and play yoga games to move. You can expect lots of fun!
X-ALT-DESC;FMTTYPE=text/html:<div><span style="color:rgb(0\, 29\, 53)\; font-family:arial\,sans-serif\; font-size:small">Just like Neil Diamond said\, &ldquo\;</span><span style="color:rgb(31\, 31\, 31)\; font-family:arial\,sans-serif\; font-size:small">Pack up the babies and grab the old ladies</span><span style="background-color:transparent\; color:rgb(31\, 31\, 31)\; font-family:arial\,sans-serif\; font-size:small">.&nbsp\;</span><span style="color:rgb(31\, 31\, 31)\; font-family:arial\,sans-serif\; font-size:small">And everyone goes!&rdquo\;&nbsp\;&nbsp\;</span><span style="color:rgb(0\, 29\, 53)\; font-family:arial\,sans-serif\; font-size:small">It is a fun practice of yoga poses\, music and games&nbsp\;</span><span style="color:rgb(0\, 29\, 53)\; font-family:arial\,sans-serif\; font-size:small">with breathing techniques and movement for physical and emotional well-being.&nbsp\;</span><span style="color:rgb(31\, 31\, 31)\; font-family:arial\,sans-serif\; font-size:small">Family Yoga is a wonderful opportunity for family members of all ages. We will create shapes together like a star\, circle\, or flower and play yoga games to move.&nbsp\;</span><span style="color:rgb(31\, 31\, 31)\; font-family:arial\,sans-serif\; font-size:small">You can expect lots of fun!</span>\n<div>&nbsp\;</div>\n</div>\n
LOCATION:Taspen's Yoga and Healing Center 25797 Conifer Rd Ste C-130\, Conifer\, CO 80433\, USA REGISTER HERE: https://peaceworksinc.co/events?
UID:e.692.46852
SEQUENCE:3
DTSTAMP:20260425T214540Z
URL:https://business.goconifer.com/events/details/family-yoga-46852
END:VEVENT

END:VCALENDAR
