BEGIN:VCALENDAR
VERSION:2.0
PRODID:-//ChamberMaster//Event Calendar 2.0//EN
METHOD:PUBLISH
X-PUBLISHED-TTL:P3D
REFRESH-INTERVAL:P3D
CALSCALE:GREGORIAN
BEGIN:VEVENT
DTSTART:20111019T230000Z
DTEND:20111020T013000Z
X-MICROSOFT-CDO-ALLDAYEVENT:FALSE
SUMMARY:Eye Consultants of Colorado Open House Mixer
DESCRIPTION:
X-ALT-DESC;FMTTYPE=text/html:
LOCATION:Eye Consultants of Colorado 10791 Kitty Drive\, suite B Conifer\, CO 80433
UID:e.692.1201
SEQUENCE:3
DTSTAMP:20260425T111044Z
URL:https://business.goconifer.com/events/details/eye-consultants-of-colorado-open-house-mixer-10-19-2011-1201
END:VEVENT

END:VCALENDAR
