BEGIN:VCALENDAR
VERSION:2.0
PRODID:-//ChamberMaster//Event Calendar 2.0//EN
METHOD:PUBLISH
X-PUBLISHED-TTL:P3D
REFRESH-INTERVAL:P3D
CALSCALE:GREGORIAN
BEGIN:VEVENT
DTSTART:20110918T200000Z
DTEND:20110918T223000Z
X-MICROSOFT-CDO-ALLDAYEVENT:FALSE
SUMMARY:EVITA presented by The Evergreen Chorale
DESCRIPTION:Argentina's controversial First Lady is the subject of Andrew Lloyd Webber's dynamic musical masterpiece.  As an illegitimate 15-year-old\, Eva escaped her dirt-poor existence for the bright lights of Buenos Aires.  Driven by ambition and blessed with charisma\, she was a starlet at 22\, the President's mistress at 24\, First Lady at 27\, and dead at 33.  Eva Peron "saint to the working-class\, reviled by the aristocracy and mistrusted by the military" was destined to leave a fascinating political legacy unique in the 20th century.  Told through a compelling score that fuses haunting chorales with exuberant Latin\, pop and jazz influences\, EVITA creates an arresting theatrical portrait as complex as the woman herself.  For tickets\, please call 303-674-4002 or visit www.evergreenchorale.org.
X-ALT-DESC;FMTTYPE=text/html:Argentina&rsquo\;s controversial First Lady is the subject of Andrew Lloyd Webber&rsquo\;s dynamic musical masterpiece.&nbsp\; As an illegitimate 15-year-old\, Eva escaped her dirt-poor existence for the bright lights of Buenos Aires.&nbsp\; Driven by ambition and blessed with charisma\, she was a starlet at 22\, the President&rsquo\;s mistress at 24\, First Lady at 27\, and dead at 33.&nbsp\; Eva Peron &ldquo\;saint to the working-class\, reviled by the aristocracy and mistrusted by the military&rdquo\; was destined to leave a fascinating political legacy unique in the 20th century.&nbsp\; Told through a compelling score that fuses haunting chorales with exuberant Latin\, pop and jazz influences\, EVITA creates an arresting theatrical portrait as complex as the woman herself.&nbsp\; For tickets\, please call 303-674-4002 or visit <a href="http://www.evergreenchorale.org">www.evergreenchorale.org</a>.
LOCATION:Center/Stage\, 27608 FIreweed Dr\, Conifer
UID:e.692.1186
SEQUENCE:3
DTSTAMP:20260425T123831Z
URL:https://business.goconifer.com/events/details/evita-presented-by-the-evergreen-chorale-09-18-2011-1186
END:VEVENT

END:VCALENDAR
