BEGIN:VCALENDAR
VERSION:2.0
PRODID:-//ChamberMaster//Event Calendar 2.0//EN
METHOD:PUBLISH
X-PUBLISHED-TTL:P3D
REFRESH-INTERVAL:P3D
CALSCALE:GREGORIAN
BEGIN:VEVENT
DTSTART:20140406T190000Z
DTEND:20140406T220000Z
X-MICROSOFT-CDO-ALLDAYEVENT:FALSE
SUMMARY:Evergreen Wedding & Event Showcase
DESCRIPTION:Free event features vendors\, complimentary vendor services\n\nCouples\, businesses\, organizations and non-profits are invited to attend the 2014 Evergreen Wedding & Event Showcase\, being held at Evergreen Lake House on Sunday\, April 6\, 2014\, from 1:00-4:00 PM.\n\n\n\nOverlooking scenic Evergreen Lake and ringed by ponderosa pine forest and the elk-dotted Evergreen Golf Course\, Evergreen Lake House provides an idyllic mountain setting for weddings\, parties\, special events and meetings.\n\n\n\nLocated just half an hour from Denver\, the Lake House hosts events year round\, combining the elegance of vaulted ceilings and dazzling views from every window with the rustic log cabin charm of a mountain getaway.\n\n\n\nThe free Wedding & Event Showcase offers participants the opportunity to sample food and alcoholic beverages while experiencing the ambiance of Evergreen Lake House and gathering information about special event vendors and service providers.\n\nEvergreen Lake House is an LGBTQ-friendly venue operated by Evergreen Park & Recreation District (EPRD).
X-ALT-DESC;FMTTYPE=text/html:<p align="LEFT" style="margin-bottom: 0.2in"><em>Free event features vendors\, complimentary vendor services</em><br />\nCouples\, businesses\, organizations and non-profits are invited to attend the 2014 Evergreen Wedding &amp\; Event Showcase\, being held at Evergreen Lake House on Sunday\, April 6\, 2014\, from 1:00-4:00 PM.<br />\n<br />\nOverlooking scenic Evergreen Lake and ringed by ponderosa pine forest and the elk-dotted Evergreen Golf Course\, Evergreen Lake House provides an idyllic mountain setting for weddings\, parties\, special events and meetings.<br />\n<br />\nLocated just half an hour from Denver\, the Lake House hosts events year round\, combining the elegance of vaulted ceilings and dazzling views from every window with the rustic log cabin charm of a mountain getaway.<br />\n<br />\nThe free Wedding &amp\; Event Showcase offers participants the opportunity to sample food and alcoholic beverages while experiencing the ambiance of Evergreen Lake House and gathering information about special event vendors and service providers.</p>\n\n<p align="LEFT">Evergreen Lake House is an LGBTQ-friendly venue operated by Evergreen Park &amp\; Recreation District (EPRD).</p>\n
LOCATION:Evergreen Lake House\, 29612 Upper Bear Creek Rd.\, Evergreen\, CO 80439
UID:e.692.2150
SEQUENCE:3
DTSTAMP:20260423T155807Z
URL:https://business.goconifer.com/events/details/evergreen-wedding-event-showcase-04-06-2014-2150
END:VEVENT

END:VCALENDAR
