BEGIN:VCALENDAR
VERSION:2.0
PRODID:-//ChamberMaster//Event Calendar 2.0//EN
METHOD:PUBLISH
X-PUBLISHED-TTL:P3D
REFRESH-INTERVAL:P3D
CALSCALE:GREGORIAN
BEGIN:VEVENT
DTSTART:20140101T190000Z
DTEND:20140101T210000Z
X-MICROSOFT-CDO-ALLDAYEVENT:FALSE
SUMMARY:Evergreen Lake Plunge
DESCRIPTION:It's the Annual Plunge!
X-ALT-DESC;FMTTYPE=text/html:It&#39\;s the Annual Plunge!
LOCATION:Evergreen Lake
UID:e.692.1756
SEQUENCE:3
DTSTAMP:20260423T195907Z
URL:https://business.goconifer.com/events/details/evergreen-lake-plunge-01-01-2014-1756
END:VEVENT

END:VCALENDAR
