BEGIN:VCALENDAR
VERSION:2.0
PRODID:-//ChamberMaster//Event Calendar 2.0//EN
METHOD:PUBLISH
X-PUBLISHED-TTL:P3D
REFRESH-INTERVAL:P3D
CALSCALE:GREGORIAN
BEGIN:VEVENT
DTSTART:20120218T023000Z
DTEND:20120218T023000Z
X-MICROSOFT-CDO-ALLDAYEVENT:FALSE
SUMMARY:Evergreen Chorale Presents Quilters Feb. 17 to March 4
DESCRIPTION:Normal\n  0\n  \n  \n  false\n  false\n  false\n  \n   \n   \n   \n   \n   \n  \n  MicrosoftInternetExplorer4\n \n\n \n \n\n\nst1\\:*{behavior:url(#ieooui) }\n\n\n\n /* Style Definitions */\n table.MsoNormalTable\n	{mso-style-name:"Table Normal"\;\n	mso-tstyle-rowband-size:0\;\n	mso-tstyle-colband-size:0\;\n	mso-style-noshow:yes\;\n	mso-style-parent:""\;\n	mso-padding-alt:0in 5.4pt 0in 5.4pt\;\n	mso-para-margin:0in\;\n	mso-para-margin-bottom:.0001pt\;\n	mso-pagination:widow-orphan\;\n	font-size:10.0pt\;\n	font-family:"Times New Roman"\;\n	mso-ansi-language:#0400\;\n	mso-fareast-language:#0400\;\n	mso-bidi-language:#0400\;}\n\n\n\n	The Evergreen Chorale presents the Tony Award-winning musical Quilters\, a unique western musical that premiered 30 years at the Denver Center Theater Company. Shows run for three weekends beginning\, Friday\, Feb. 17 at 7:30 p.m. at the Center/Stage Theatre in Evergreen\, Colorado and ending with a matinee on March 4th at 2:00 p.m. \n\n	Quilters\, written by Barbara Damashek and Molly Newman\, had a short run on Broadway in 1984\, directed by Damashek\, who also wrote the music and lyrics. The musical was nominated for six Tony Awards\, including Best Musical.\n\n	The musical depicts the life story of Sarah\, a stoic pioneer woman\, and six women referred to as her daughters\, as they face the challenges of frontier life in the American West. Rather than a straightforward storyline\, the musical is presented as a series of short tales and tableaux matched with musical numbers\, each presenting an aspect of frontier life or womanhood. The quilt patches or blocks that they depict are intended to represent girlhood\, marriage\, childbirth\, spinsterhood\, twisters\, fire\, illness and death. The patches are ultimately put together to form one dramatic tableau.\n\n	Larry Sohrweid returns as director\, 16 years after Quilters was last produced at Center/Stage\, to create a new version of the show and his wife\, Elaine Sohrweid reprises the role of the matriarch Sarah.  The daughters are played by Amanda Cyphers\, Shelley Krane\, Lara Sohrweid\, Lisa Hamm-Greenawalt\, Janice O'Grady and Norika Zehnder.\n\n	Christine Gaudreau is musical director and Cindy Catanese is choreographer.\n\n	Tickets are $21 for adults\, $17 for students and seniors and $14 for children 12 and under\, and can be purchased at www.evergreenchorale.org or by calling 303-674-4002.
X-ALT-DESC;FMTTYPE=text/html:<!--[if gte mso 9]><xml>\n <w:WordDocument>\n  <w:View>Normal</w:View>\n  <w:Zoom>0</w:Zoom>\n  <w:PunctuationKerning/>\n  <w:ValidateAgainstSchemas/>\n  <w:SaveIfXMLInvalid>false</w:SaveIfXMLInvalid>\n  <w:IgnoreMixedContent>false</w:IgnoreMixedContent>\n  <w:AlwaysShowPlaceholderText>false</w:AlwaysShowPlaceholderText>\n  <w:Compatibility>\n   <w:BreakWrappedTables/>\n   <w:SnapToGridInCell/>\n   <w:WrapTextWithPunct/>\n   <w:UseAsianBreakRules/>\n   <w:DontGrowAutofit/>\n  </w:Compatibility>\n  <w:BrowserLevel>MicrosoftInternetExplorer4</w:BrowserLevel>\n </w:WordDocument>\n</xml><![endif][if gte mso 9]><xml>\n <w:LatentStyles DefLockedState="false" LatentStyleCount="156">\n </w:LatentStyles>\n</xml><![endif][if !mso]><object\n classid="clsid:38481807-CA0E-42D2-BF39-B33AF135CC4D" id=ieooui></object>\n<style>\nst1\\:*{behavior:url(#ieooui) }\n</style>\n<![endif][if gte mso 10]>\n<style>\n /* Style Definitions */\n table.MsoNormalTable\n	{mso-style-name:"Table Normal"\;\n	mso-tstyle-rowband-size:0\;\n	mso-tstyle-colband-size:0\;\n	mso-style-noshow:yes\;\n	mso-style-parent:""\;\n	mso-padding-alt:0in 5.4pt 0in 5.4pt\;\n	mso-para-margin:0in\;\n	mso-para-margin-bottom:.0001pt\;\n	mso-pagination:widow-orphan\;\n	font-size:10.0pt\;\n	font-family:"Times New Roman"\;\n	mso-ansi-language:#0400\;\n	mso-fareast-language:#0400\;\n	mso-bidi-language:#0400\;}\n</style>\n<![endif]-->\n<p class="NoSpacing">\n	<span style="font-size:12.0pt\;font-family:Arial">The Evergreen Chorale presents the Tony Award-winning musical <i style="mso-bidi-font-style:\nnormal">Quilters\,</i> a unique western musical that premiered 30 years at the Denver Center Theater Company. Shows run for three weekends beginning\, Friday\, Feb. 17 at 7:30 p.m. at the Center/Stage Theatre in Evergreen\, Colorado and ending with a matinee on March 4<sup>th</sup> at 2:00 p.m. </span></p>\n<p class="NoSpacing">\n	<i><span style="font-size:12.0pt\;font-family:Arial">Quilters</span></i><span style="font-size:12.0pt\;font-family:Arial">\, written by Barbara Damashek and Molly Newman\, had a short run on Broadway in 1984\, directed by Damashek\, who also wrote the music and lyrics. The musical was nominated for six Tony Awards\, including Best Musical.</span></p>\n<p class="NoSpacing">\n	<span style="font-size:12.0pt\;font-family:Arial">The musical depicts the life story of Sarah\, a stoic pioneer woman\, and six women referred to as her daughters\, as they face the challenges of frontier life in the American West. Rather than a straightforward storyline\, the musical is presented as a series of short tales and tableaux matched with musical numbers\, each presenting an aspect of frontier life or womanhood. The quilt patches or blocks that they depict are intended to represent girlhood\, marriage\, childbirth\, spinsterhood\, twisters\, fire\, illness and death. The patches are ultimately put together to form one dramatic tableau.<a name="_GoBack"></a></span></p>\n<p class="NoSpacing">\n	<span style="font-size:12.0pt\;font-family:Arial">Larry Sohrweid returns as director\, 16 years after <i style="mso-bidi-font-style:\nnormal">Quilters</i> was last produced at Center/Stage\, to create a new version of the show and his wife\, Elaine Sohrweid reprises the role of the matriarch Sarah. <span style="mso-spacerun:yes">&nbsp\;</span>The daughters are played by Amanda Cyphers\, Shelley Krane\, Lara Sohrweid\, Lisa Hamm-Greenawalt\, Janice O&rsquo\;Grady and Norika Zehnder.</span></p>\n<p class="NoSpacing">\n	<span style="font-size:12.0pt\;font-family:Arial">Christine Gaudreau is musical director and Cindy Catanese is choreographer.</span></p>\n<p class="NoSpacing">\n	<span style="font-size:12.0pt\;font-family:Arial">Tickets are $21 for adults\, $17 for students and seniors and $14 for children 12 and under\, and can be purchased at </span><a href="http://click.icptrack.com/icp/relay.php?r=54666772&amp\;msgid=547225&amp\;act=899V&amp\;c=513733&amp\;destination=http%3A%2F%2Fwww.evergreenchorale.org%2F" target="_blank"><span style="font-size:12.0pt\;font-family:Arial\;color:#55AADD">www.evergreenchorale.org</span></a><span style="font-size:12.0pt\;font-family:Arial"> or by calling </span><a href="tel:303-674-4002" target="_blank"><span style="font-size:12.0pt\;\nfont-family:Arial">303-674-4002</span></a><span style="font-size:12.0pt\;\nfont-family:Arial">.</span></p>\n<p class="NoSpacing">\n	<span style="font-size:12.0pt\;font-family:Arial">&nbsp\;</span></p>\n
LOCATION:Center/Stage\, 27608 Fireweed Drive\, Evergreen\, CO
UID:e.692.1236
SEQUENCE:3
DTSTAMP:20260425T033020Z
URL:https://business.goconifer.com/events/details/evergreen-chorale-presents-quilters-feb-17-to-march-4-02-17-2012-1236
END:VEVENT

END:VCALENDAR
