BEGIN:VCALENDAR
VERSION:2.0
PRODID:-//ChamberMaster//Event Calendar 2.0//EN
METHOD:PUBLISH
X-PUBLISHED-TTL:P3D
REFRESH-INTERVAL:P3D
CALSCALE:GREGORIAN
BEGIN:VEVENT
DTSTART:20100509T010000Z
DTEND:20100509T030000Z
X-MICROSOFT-CDO-ALLDAYEVENT:FALSE
SUMMARY:Evergreen Children's Chorale presents GODSPELL Jr.
DESCRIPTION:Evergreen Children's Chorale presents GODSPELL Jr. The Evergreen Children's Chorale\, a community performing arts organization for children in 4th through 8th grades\, is pleased to present GODSPELL Jr. - one of the most well-loved musicals of all time! Based on the Gospel of St. Matthew\, GODSPELL musically weaves together a series of parables about the life of Jesus. GODSPELL has remained such an important part of the modern musical theater scene because of its versatility in design and the opportunity to incorporate clowning\, pantomime\, charades\, acrobatics and vaudeville\, and more. GODSPELL Jr. is a must-see musical for audiences of all ages.
X-ALT-DESC;FMTTYPE=text/html:<div>Evergreen Children's Chorale presents GODSPELL&nbsp\;Jr.</div><div>&nbsp\;</div><div>The Evergreen Children's Chorale\, a community performing arts organization for children in 4th through 8th grades\, is pleased to present GODSPELL Jr. - one of the most well-loved musicals of all time! Based on the Gospel of St. Matthew\, GODSPELL musically weaves together a series of parables about the life of Jesus. GODSPELL has remained such an important part of the modern musical theater scene because of its versatility in design and the opportunity to incorporate clowning\, pantomime\, charades\, acrobatics and vaudeville\, and more. GODSPELL Jr. is a must-see musical for audiences of all ages.</div>
LOCATION:Center/Stage Theater27608 Fireweed DriveEvergreen. CO 303-674-9004
UID:e.692.304
SEQUENCE:3
DTSTAMP:20260424T112705Z
URL:https://business.goconifer.com/events/details/evergreen-children-s-chorale-presents-godspell-jr-05-08-2010-304
END:VEVENT

END:VCALENDAR
