BEGIN:VCALENDAR
VERSION:2.0
PRODID:-//ChamberMaster//Event Calendar 2.0//EN
METHOD:PUBLISH
X-PUBLISHED-TTL:P3D
REFRESH-INTERVAL:P3D
CALSCALE:GREGORIAN
BEGIN:VEVENT
DTSTART:20130427T010000Z
DTEND:20130505T200000Z
X-MICROSOFT-CDO-ALLDAYEVENT:FALSE
SUMMARY:Evergreen Children's Chorale presents "Aladdin Jr."
DESCRIPTION:if(typeof(dstb)!= "undefined"){ dstb()\;}Evergreen Children's Chorale's performances of Aladdin Jr.  April 26 and 27 and May 3 and 4 at 7 PM and April 28 and May 5 at 2 PM at Center Stage\, Evergreen.
X-ALT-DESC;FMTTYPE=text/html:<script id="dstb-id" language="javascript">\nif(typeof(dstb)!= "undefined"){ dstb()\;}</script>Evergreen Children&#39\;s Chorale&#39\;s performances of Aladdin Jr.&nbsp\; April 26 and 27 and May 3 and 4 at 7 PM and April 28 and May 5 at 2 PM at Center Stage\, Evergreen.
LOCATION:Center Stage\, Evergreen
UID:e.692.1451
SEQUENCE:3
DTSTAMP:20260424T055444Z
URL:https://business.goconifer.com/events/details/evergreen-children-s-chorale-presents-aladdin-jr-04-26-2013-1451
END:VEVENT

END:VCALENDAR
