BEGIN:VCALENDAR
VERSION:2.0
PRODID:-//ChamberMaster//Event Calendar 2.0//EN
METHOD:PUBLISH
X-PUBLISHED-TTL:P3D
REFRESH-INTERVAL:P3D
CALSCALE:GREGORIAN
BEGIN:VEVENT
DTSTART:20130421T210000Z
DTEND:20130421T210000Z
X-MICROSOFT-CDO-ALLDAYEVENT:FALSE
SUMMARY:Evergreen Chamber Orchestra Concert
DESCRIPTION:Evergreen Chamber Orchestra is proud to announce Bill Hill\, principal timpanist for the Colorado Symphony\, as our guest conductor for the April Concert featuring:  Soprano Nadya Hill singing Bolcom's "Cabaret Songs"\, Oboist Larry Beck on Ewazen's "Down a River of Time" with the Voice of the Wood Cello Quartet\, and Pianist Peggy Lyon performing Creston's "Fantasy for Piano".
X-ALT-DESC;FMTTYPE=text/html:Evergreen Chamber Orchestra is proud to announce Bill Hill\, principal timpanist for the Colorado Symphony\, as our guest conductor for the April Concert featuring:&nbsp\; Soprano Nadya Hill singing Bolcom&#39\;s &quot\;Cabaret Songs&quot\;\, Oboist Larry Beck on Ewazen&#39\;s &quot\;Down a River of Time&quot\; with the Voice of the Wood Cello Quartet\, and Pianist Peggy Lyon performing Creston&#39\;s &quot\;Fantasy for Piano&quot\;.
LOCATION:Church of the Hills
UID:e.692.1422
SEQUENCE:3
DTSTAMP:20260424T072223Z
URL:https://business.goconifer.com/events/details/evergreen-chamber-orchestra-concert-04-21-2013-1422
END:VEVENT

END:VCALENDAR
