BEGIN:VCALENDAR
VERSION:2.0
PRODID:-//ChamberMaster//Event Calendar 2.0//EN
METHOD:PUBLISH
X-PUBLISHED-TTL:P3D
REFRESH-INTERVAL:P3D
CALSCALE:GREGORIAN
BEGIN:VEVENT
DTSTART:20101119T000000Z
DTEND:20101119T023000Z
X-MICROSOFT-CDO-ALLDAYEVENT:FALSE
SUMMARY:Evergreen Chamber After Hours Mixer
DESCRIPTION:Join Evergreen Design Center as it hosts the November Evergreen Area Chamber After Hours Mixer.\n\n\n\nNetwork with fellow Chamber members and guests\, while enjoying delicious appetizers & refreshments. Visit www.evergreenchamber.org for more details or to view mixer flyer.
X-ALT-DESC;FMTTYPE=text/html:Join Evergreen Design Center as it hosts the November Evergreen Area Chamber After Hours Mixer.<br />\n<br />\nNetwork with fellow Chamber members and guests\, while enjoying delicious appetizers &amp\; refreshments. Visit www.evergreenchamber.org for more details or to view mixer flyer.
LOCATION:Evergreen Design Center 27965 Meadow Drive\, Evergreen
UID:e.692.810
SEQUENCE:3
DTSTAMP:20260424T195206Z
URL:https://business.goconifer.com/events/details/evergreen-chamber-after-hours-mixer-11-18-2010-810
END:VEVENT

END:VCALENDAR
