BEGIN:VCALENDAR
VERSION:2.0
PRODID:-//ChamberMaster//Event Calendar 2.0//EN
METHOD:PUBLISH
X-PUBLISHED-TTL:P3D
REFRESH-INTERVAL:P3D
CALSCALE:GREGORIAN
BEGIN:VEVENT
DTSTART:20140814T230000Z
DTEND:20140815T013000Z
X-MICROSOFT-CDO-ALLDAYEVENT:FALSE
SUMMARY:Evergreen Chamber After Hours Mixer
DESCRIPTION:Splintered Forest is proud to team up with Mountain Hearth & Patio to host the Evergreen Chamber After Hours Mixer for the month of August.  The open house will be held from 5-7:30 PM on August 14th at 7001 Highway 73 in Evergreen (across from the bus barn).  Food and beverage will be provided. Don't miss out on your chance for door prizes and a great networking opportunity!  \n\n\n\nAdditional information can be found at http://www.evergreenchamber.org/ or by following Splintered Forest on Facebook at https://www.facebook.com/splinteredforest.
X-ALT-DESC;FMTTYPE=text/html:<strong>Splintered Forest</strong> is proud to team up with <strong>Mountain Hearth &amp\; Patio</strong> to host the Evergreen Chamber After Hours Mixer for the month of August. &nbsp\;The open house will be held from 5-7:30 PM on August 14th at 7001 Highway 73 in Evergreen (across from the bus barn). &nbsp\;Food and beverage will be provided. Don&#39\;t miss out on your chance for door prizes and a great networking opportunity! &nbsp\;<br />\n<br />\nAdditional information can be found at&nbsp\;http://www.evergreenchamber.org/ or by following Splintered Forest on Facebook at https://www.facebook.com/splinteredforest.
LOCATION:7001 Highway 73\, Evergreen
UID:e.692.3286
SEQUENCE:3
DTSTAMP:20260423T091511Z
URL:https://business.goconifer.com/events/details/evergreen-chamber-after-hours-mixer-08-14-2014-3286
END:VEVENT

END:VCALENDAR
