BEGIN:VCALENDAR
VERSION:2.0
PRODID:-//ChamberMaster//Event Calendar 2.0//EN
METHOD:PUBLISH
X-PUBLISHED-TTL:P3D
REFRESH-INTERVAL:P3D
CALSCALE:GREGORIAN
BEGIN:VEVENT
DTSTART:20101207T003000Z
DTEND:20101207T050000Z
X-MICROSOFT-CDO-ALLDAYEVENT:FALSE
SUMMARY:Evergreen Chamber 2010 Holiday Gala - "It's A Jungle Out There!"
DESCRIPTION:Join us for our Annual Holiday Gala!\n\n"It's a Jungle Out there!"\n\n\n\nHors D'oeuvres\n\nCocktails\n\nFormal Dinner\n\nLive & Silent Auction \n\nEntertainment\n\n$1000 Cash Raffle Drawing (must be present to win)\n\nAdditional Prizes & Get-Aways\n\n\n\nAttire - Cocktail ~ Animal Prints Encouraged
X-ALT-DESC;FMTTYPE=text/html:Join us for our Annual Holiday Gala!\n<br>"It's a Jungle Out there!"\n<br>\n<br>Hors D'oeuvres\n<br>Cocktails\n<br>Formal Dinner\n<br>Live &amp\; Silent Auction \n<br>Entertainment\n<br>$1000 Cash Raffle Drawing (must be present to win)\n<br>Additional Prizes &amp\; Get-Aways\n<br>\n<br>Attire - Cocktail ~ Animal Prints Encouraged
LOCATION:Mt. Vernon Country Club 24933 Clubhouse Circle - Golden
UID:e.692.809
SEQUENCE:3
DTSTAMP:20260424T212431Z
URL:https://business.goconifer.com/events/details/evergreen-chamber-2010-holiday-gala-it-s-a-jungle-out-there-12-06-2010-809
END:VEVENT

END:VCALENDAR
