BEGIN:VCALENDAR
VERSION:2.0
PRODID:-//ChamberMaster//Event Calendar 2.0//EN
METHOD:PUBLISH
X-PUBLISHED-TTL:P3D
REFRESH-INTERVAL:P3D
CALSCALE:GREGORIAN
BEGIN:VEVENT
DTSTART:20140503T173000Z
DTEND:20140503T203000Z
X-MICROSOFT-CDO-ALLDAYEVENT:FALSE
SUMMARY:Event at Spirit Songs Creations\, LLC
DESCRIPTION:Third Annual World Labyrinth Day Walk at Peace Rocks Labyrinth located at 362 Dick Mountain Drive\, Bailey\, brought to you by Spirit Song Creations\, LLC. Come experience the sacred journey of walking the labyrinth--with the rest of the world on World Labyrinth Day.  All are welcome.  Come and go as you please or stay the whole time. Snacks and chocolate will be available.  Cost: Free. "Love Offerings" accepted\, but not required. Parking limited--carpooling encouraged! Call Kathy at 303-907-9170 or check out www.spiritsongcreationsllc.com for more info.
X-ALT-DESC;FMTTYPE=text/html:<span style="color: rgb(0\, 0\, 0)\; font-family: Arial\, Helvetica\, sans-serif\; font-size: small\;">Third Annual World Labyrinth Day Walk at Peace Rocks Labyrinth located at 362 Dick Mountain Drive\, Bailey\, brought to you by Spirit Song Creations\, LLC. Come experience the sacred journey of walking the labyrinth--with the rest of the world on World Labyrinth Day. &nbsp\;All are welcome. &nbsp\;Come and go as you please or stay the whole time. Snacks and chocolate will be available. &nbsp\;Cost: Free. &quot\;Love Offerings&quot\; accepted\, but not required. Parking limited--carpooling encouraged! Call Kathy at&nbsp\;</span><a href="tel:303-907-9170" style="color: rgb(17\, 85\, 204)\; font-family: Arial\, Helvetica\, sans-serif\; font-size: small\;" target="_blank" value="+13039079170">303-907-9170</a><span style="color: rgb(0\, 0\, 0)\; font-family: Arial\, Helvetica\, sans-serif\; font-size: small\;">&nbsp\;or check out&nbsp\;</span><a href="http://www.spiritsongcreationsllc.com/" style="color: rgb(17\, 85\, 204)\; font-family: Arial\, Helvetica\, sans-serif\; font-size: small\;" target="_blank">www.spiritsongcreationsllc.com</a><span style="color: rgb(0\, 0\, 0)\; font-family: Arial\, Helvetica\, sans-serif\; font-size: small\;">&nbsp\;for more info.</span>
LOCATION:Peace Rocks Labyrinth\, 362 Dick Mountain Drive\, Bailey\, CO
UID:e.692.1810
SEQUENCE:3
DTSTAMP:20260423T132037Z
URL:https://business.goconifer.com/events/details/event-at-spirit-songs-creations-llc-05-03-2014-1810
END:VEVENT

END:VCALENDAR
