BEGIN:VCALENDAR
VERSION:2.0
PRODID:-//ChamberMaster//Event Calendar 2.0//EN
METHOD:PUBLISH
X-PUBLISHED-TTL:P3D
REFRESH-INTERVAL:P3D
CALSCALE:GREGORIAN
BEGIN:VEVENT
DTSTART;VALUE=DATE:20140517
DTEND;VALUE=DATE:20140519
TRANSP:TRANSPARENT
X-MICROSOFT-CDO-ALLDAYEVENT:TRUE
SUMMARY:Event at Friends of Staunton State Park
DESCRIPTION:Please join the Friends of Staunton State Park in celebrating the 1st Anniversary Weekend at Staunton.\n\nJoin in on all the fun events and activities for the entire family\, the weekend of May 17th and 18th.\n\nWe are proud to support Staunton State Park\, and the many recreational opportunities the park brings to our community.\n\nPlease visit our Friends booth\, to see how you can help support Colorado's newest state park. Friends board members will be on hand to answer all your questions.
X-ALT-DESC;FMTTYPE=text/html:Please join the Friends of Staunton State Park in celebrating the 1st Anniversary Weekend at Staunton.<br />\nJoin in on all the fun events and activities for the entire family\, the weekend of May 17th and 18th.<br />\nWe are proud to support Staunton State Park\, and the many recreational opportunities the park brings to <u>our</u> community.<br />\n<span style="background-color:#ffff00\;">Please visit our Friends booth\, to see how you can help support Colorado&#39\;s newest state park.</span> Friends board members will be on hand to answer all your questions.&nbsp\;
LOCATION:Staunton State Park
UID:e.692.2922
SEQUENCE:3
DTSTAMP:20260423T132527Z
URL:https://business.goconifer.com/events/details/event-at-friends-of-staunton-state-park-05-17-2014-2922
END:VEVENT

END:VCALENDAR
