BEGIN:VCALENDAR
VERSION:2.0
PRODID:-//ChamberMaster//Event Calendar 2.0//EN
METHOD:PUBLISH
X-PUBLISHED-TTL:P3D
REFRESH-INTERVAL:P3D
CALSCALE:GREGORIAN
BEGIN:VEVENT
DTSTART:20101025T230000Z
DTEND:20101026T010000Z
X-MICROSOFT-CDO-ALLDAYEVENT:FALSE
SUMMARY:Event at Eye Consultants of Colorado
DESCRIPTION:Eye Consultants of Colorado Fall Mixer\n\nHalloween Costumes Encouraged!!!
X-ALT-DESC;FMTTYPE=text/html:Eye Consultants of Colorado Fall Mixer\n<br>Halloween Costumes Encouraged!!!
LOCATION:Eye Consultants of Colorado 10791 Kitty Drive\, suite B
UID:e.692.785
SEQUENCE:3
DTSTAMP:20260424T181417Z
URL:https://business.goconifer.com/events/details/event-at-eye-consultants-of-colorado-10-25-2010-785
END:VEVENT

END:VCALENDAR
