BEGIN:VCALENDAR
VERSION:2.0
PRODID:-//ChamberMaster//Event Calendar 2.0//EN
METHOD:PUBLISH
X-PUBLISHED-TTL:P3D
REFRESH-INTERVAL:P3D
CALSCALE:GREGORIAN
BEGIN:VEVENT
DTSTART:20160206T170000Z
DTEND:20160206T183000Z
X-MICROSOFT-CDO-ALLDAYEVENT:FALSE
SUMMARY:Estate Planning
DESCRIPTION:Do you need a will or a trust?  or both?\n\nDo you need to create retirement income?\n\nDo you want your money to go to your heirs or Uncle Sam?\n\nMeet with Ruth Moore\, Estate Planning Attorney\, and Pat Frederiksen\, Retirement Income Specialist\, to learn what options are available to you.  You have worked hard to make your estate and now you need to protect it.  Ensure that your wishes are carried out.\n\nNo cost and no products will be sold.\n\nRSVP 303-919-1020
X-ALT-DESC;FMTTYPE=text/html:Do you need a will or a trust?&nbsp\; or both?<br />\nDo you need to create retirement income?<br />\nDo you want your money to go to your heirs or Uncle Sam?<br />\nMeet with Ruth Moore\, Estate Planning Attorney\, and Pat Frederiksen\, Retirement Income Specialist\, to learn what options are available to you.&nbsp\; You have worked hard to make your estate and now you need to protect it.&nbsp\; Ensure that your wishes are carried out.<br />\nNo cost and no products will be sold.<br />\nRSVP 303-919-1020
LOCATION:Conifer Community Church 9998 Havekost Rd. Conifer 80433
UID:e.692.17050
SEQUENCE:3
DTSTAMP:20260422T030451Z
URL:https://business.goconifer.com/events/details/estate-planning-02-06-2016-17050
END:VEVENT

END:VCALENDAR
