BEGIN:VCALENDAR
VERSION:2.0
PRODID:-//ChamberMaster//Event Calendar 2.0//EN
METHOD:PUBLISH
X-PUBLISHED-TTL:P3D
REFRESH-INTERVAL:P3D
CALSCALE:GREGORIAN
BEGIN:VEVENT
DTSTART:20160617T003000Z
DTEND:20160617T023000Z
X-MICROSOFT-CDO-ALLDAYEVENT:FALSE
SUMMARY:Essential Oil Spring Cleaning Make and Take Class
DESCRIPTION:Come and learn how to make your own all natural\, safe cleaning products for your home or office! We will be making three products\, a Lime Scale Remover\, a Pine Floor Cleaner and an All Purpose Cleaning Spray that you will make yourself and take home your full size products!!\n\n\n\nWe will learn how essential oils can be used in your home cleaning rountine to eliminate harmful chemicals from our homes! All products are safe to use around children and pets! \n\n\n\nThis will be a fun\, hands on class!!  All materials will be provided!
X-ALT-DESC;FMTTYPE=text/html:Come and learn how to make your own all natural\, safe cleaning products for your home or office! We will be making three products\, a Lime Scale Remover\, a Pine Floor Cleaner and an All Purpose Cleaning Spray that you will make yourself and take home your full size products!!<br />\n<br />\nWe will learn how essential oils can be used in your home cleaning rountine to eliminate harmful chemicals from our homes! All products are safe to use around children and pets!&nbsp\;<br />\n<br />\nThis will be a fun\, hands on class!! &nbsp\;All materials will be provided!
LOCATION:Mountain View Acupuncture & Nutrition 460 Park County Rt. 43\, in the lower level\, around back Bailey\, CO 80421
UID:e.692.18830
SEQUENCE:3
DTSTAMP:20260421T222731Z
URL:https://business.goconifer.com/events/details/essential-oil-spring-cleaning-make-and-take-class-06-16-2016-18830
END:VEVENT

END:VCALENDAR
