BEGIN:VCALENDAR
VERSION:2.0
PRODID:-//ChamberMaster//Event Calendar 2.0//EN
METHOD:PUBLISH
X-PUBLISHED-TTL:P3D
REFRESH-INTERVAL:P3D
CALSCALE:GREGORIAN
BEGIN:VEVENT
DTSTART:20160305T160000Z
DTEND:20160305T190000Z
X-MICROSOFT-CDO-ALLDAYEVENT:FALSE
SUMMARY:EPRD Summer Camp Open House and Registration
DESCRIPTION:EPRD offers a huge variety of Summer Camps for all ages\, from sports to adventure to arts to special needs. Come to a Summer Camp Open House on Saturday\, March 5\, 9 AM-noon at Wulf Rec Center.\n\n\n\nIt's essential Pre-K parents attend this Open House as we have limited spaces available.\n\n\n\nHave your questions answered in regards to all summer camps. Registration opens on this date for \n\n\n\n  Preschool Adventure\n\n  Summer Adventure\n\n  Special Needs Adventure\n\n  Outdoor Adventure\n\n  Leader in Training\n\n  Sports Camps\n\n  All Specialty Camps including Gymnastics Specialized Camps\, Dance Camps and Sailing Camps.\n\n\n\nQuestions? Visit evergreenrecreation.com or email tsutton@eprd.co.
X-ALT-DESC;FMTTYPE=text/html:<span style="color:rgb(20\, 24\, 35)\; font-family:helvetica\,arial\,sans-serif\; font-size:14px">EPRD offers a huge variety of Summer Camps for all ages\, from sports to adventure to arts to special needs. Come to a Summer Camp Open House on Saturday\, March 5\, 9 AM-noon at Wulf Rec Center.</span><br />\n<br />\n<span style="color:rgb(20\, 24\, 35)\; font-family:helvetica\,arial\,sans-serif\; font-size:14px">It&#39\;s essential Pre-K parents attend this Open House as we have limited spaces available.</span><br />\n<br />\n<span style="color:rgb(20\, 24\, 35)\; font-family:helvetica\,arial\,sans-serif\; font-size:14px">Have your questions answered in regards to all summer camps. Registration opens on this date for&nbsp\;</span><br />\n<br />\n<span style="color:rgb(20\, 24\, 35)\; font-family:helvetica\,arial\,sans-serif\; font-size:14px">&bull\; Preschool Adventure</span><br />\n<span style="color:rgb(20\, 24\, 35)\; font-family:helvetica\,arial\,sans-serif\; font-size:14px">&bull\; Summer Adventure</span><br />\n<span style="color:rgb(20\, 24\, 35)\; font-family:helvetica\,arial\,sans-serif\; font-size:14px">&bull\; Special Needs Adventure</span><br />\n<span style="color:rgb(20\, 24\, 35)\; font-family:helvetica\,arial\,sans-serif\; font-size:14px">&bull\; Outdoor Adventure</span><br />\n<span style="color:rgb(20\, 24\, 35)\; font-family:helvetica\,arial\,sans-serif\; font-size:14px">&bull\; Leader in Training</span><br />\n<span style="color:rgb(20\, 24\, 35)\; font-family:helvetica\,arial\,sans-serif\; font-size:14px">&bull\; Sports Camps</span><br />\n<span style="color:rgb(20\, 24\, 35)\; font-family:helvetica\,arial\,sans-serif\; font-size:14px">&bull\; All Specialty Camps including Gymnastics Specialized Camps\, Dance Camps and Sailing Camps.<br />\n<br />\nQuestions? Visit&nbsp\;<a href="http://l.facebook.com/l.php?u=http%3A%2F%2Fevergreenrecreation.com%2F&amp\;h=dAQGI63zP&amp\;enc=AZOS1FNhdGGFmB_i-FQGKb2dSdVY8hX4vU7rtP3IuHP0tawoFmPWTgfNqpFh9rgKP1Y&amp\;s=1" rel="nofollow nofollow" style="color: rgb(59\, 89\, 152)\; cursor: pointer\; text-decoration: none\;" target="_blank">evergreenrecreation.com</a>&nbsp\;or email tsutton@eprd.co.</span>
LOCATION:Wulf Rec Center\, 5300 S. Olive Rd.\, Evergreen\, CO 80439
UID:e.692.17104
SEQUENCE:3
DTSTAMP:20260422T012645Z
URL:https://business.goconifer.com/events/details/eprd-summer-camp-open-house-and-registration-03-05-2016-17104
END:VEVENT

END:VCALENDAR
