BEGIN:VCALENDAR
VERSION:2.0
PRODID:-//ChamberMaster//Event Calendar 2.0//EN
METHOD:PUBLISH
X-PUBLISHED-TTL:P3D
REFRESH-INTERVAL:P3D
CALSCALE:GREGORIAN
BEGIN:VEVENT
DTSTART:20160117T220000Z
DTEND:20160118T000000Z
X-MICROSOFT-CDO-ALLDAYEVENT:FALSE
SUMMARY:EPRD's 3rd annual Premier-Special Olympics Basketball Showcase
DESCRIPTION:Evergreen Park & Recreation District (EPRD) presents its 3rd annual Premier-Special Olympics Basketball Showcase on Sunday\, Jan. 17\, 2015. \n\n\n\nFormer NBA star Keith Van Horn's Colorado Premier Basketball Team will hold a clinic and play a unified game with EPRD's Special Olympics Wildcat Basketball Team. \n\n\n\nThe event\, starting at 3 PM at Wulf Recreation Center\, will give special needs kids an opportunity to learn new skills and enjoy a unified basketball game with more advanced athletes. Tickets just $5 person/$10 family at the door.\n\n\n\nIn a short ceremony just before the game\, EPRD will honor local heroes who have supported the social needs community. \n\n\n\n"The Hero presentation will honor outstanding folks for unselfish acts of kindness to people with disabilities\," said Maren Schreiber\, program coach and EPRD's Special Populations Coordinator. "It's inclusion at its best!"\n\n\n\nThose being honored in 2016 include are the Geezer Racing Club for raising $1\,500 for Special Needs\, the Sweeney family for holding the BOO TOO! fundraiser that raised over $6\,000\, and to Martha Biasi and her son Tom Biasi for volunteering\, recruiting\, and making the program better.\n\n\n\nThis year's event will also feature a silent auction. Sponsors include Colorado Premier Basketball\, Evergreen Clothing Company\, Baskin Robbins\, Messler Enterprises\, Cheryl Newhall Photography and Colorado Special Olympics.\n\n\n\nSchedule\n\n3 PM - Hero presentation\n\n3:10-4:30 PM - Clinic and Game\n\n4-5 PM - Party and Awards\n\n\n\nFor more information\, contact Maren Schreiber at mschreiber@eprd.co or 720-880-1219. Wulf Recreation Center is located at 5300 S. Olive Road in Evergreen.
X-ALT-DESC;FMTTYPE=text/html:<span style="color:rgb(20\, 24\, 35)\; font-family:helvetica\,arial\,sans-serif\; font-size:14px">Evergreen Park &amp\; Recreation District (EPRD) presents its 3rd annual Premier-Special Olympics Basketball Showcase on Sunday\, Jan. 17\, 2015.&nbsp\;</span><br />\n<br />\n<span style="color:rgb(20\, 24\, 35)\; font-family:helvetica\,arial\,sans-serif\; font-size:14px">Former NBA star Keith Van Horn&#39\;s Colorado Premier Basketball Team will hold a clinic and play a unified game with EPRD&#39\;s Special Olympics Wildcat Basketball Team.&nbsp\;</span><br />\n<br />\n<span style="color:rgb(20\, 24\, 35)\; font-family:helvetica\,arial\,sans-serif\; font-size:14px">The event\, starting at 3 PM at Wulf Recreation Center\, will give special needs kids an opportunity to learn new skills and enjoy a unified basketball game with more advanced athletes. Tickets just $5 person/$10 family at the door.</span><br />\n<br />\n<span style="color:rgb(20\, 24\, 35)\; font-family:helvetica\,arial\,sans-serif\; font-size:14px">In a short ceremony just before the game\, EPRD will honor local heroes who have supported the social needs community.&nbsp\;</span><br />\n<br />\n<span style="color:rgb(20\, 24\, 35)\; font-family:helvetica\,arial\,sans-serif\; font-size:14px">&quot\;The Hero presentation will honor outstanding folks for unse</span><span style="color:rgb(20\, 24\, 35)\; font-family:helvetica\,arial\,sans-serif\; font-size:14px">lfish acts of kindness to people with disabilities\,&quot\; said Maren Schreiber\, program&nbsp\;coach&nbsp\;and EPRD&#39\;s Special Populations Coordinator. &quot\;It&#39\;s inclusion at its best!&quot\;<br />\n<br />\nThose being honored in 2016 include are the Geezer Racing Club for raising $1\,500 for Special Needs\, the Sweeney family for holding the BOO TOO!&nbsp\;fundraiser&nbsp\;that raised over $6\,000\, and to Martha Biasi and her son Tom Biasi for volunteering\, recruiting\, and making the program better.<br />\n<br />\nThis year&#39\;s event will also feature a silent auction. Sponsors include Colorado Premier Basketball\, Evergreen Clothing Company\, Baskin Robbins\, Messler Enterprises\, Cheryl Newhall Photography and Colorado Special Olympics.<br />\n<br />\nSchedule<br />\n3 PM - Hero presentation<br />\n3:10-4:30 PM - Clinic and Game<br />\n4-5 PM - Party and Awards<br />\n<br />\nFor more information\, contact Maren Schreiber at mschreiber@eprd.co or 720-880-1219. Wulf Recreation Center is located at 5300 S. Olive Road in Evergreen.</span>
LOCATION:Wulf Recreation Center\, 5300 S. Olive Road in Evergreen
UID:e.692.16211
SEQUENCE:3
DTSTAMP:20260422T041510Z
URL:https://business.goconifer.com/events/details/eprd-s-3rd-annual-premier-special-olympics-basketball-showcase-01-17-2016-16211
END:VEVENT

END:VCALENDAR
