BEGIN:VCALENDAR
VERSION:2.0
PRODID:-//ChamberMaster//Event Calendar 2.0//EN
METHOD:PUBLISH
X-PUBLISHED-TTL:P3D
REFRESH-INTERVAL:P3D
CALSCALE:GREGORIAN
BEGIN:VEVENT
DTSTART:20121108T180000Z
DTEND:20121108T210000Z
X-MICROSOFT-CDO-ALLDAYEVENT:FALSE
SUMMARY:Empty Bowls
DESCRIPTION:Fill A Soup Bowl . . . Change a Life! \n\n	\n\n	Empty Bowls at Mountain Resource Center\n\n	\n\n	Mountain Resource Center benefit to raise money to fight hunger\n\n	and support struggling mountain area families\n\n	\n\n	\n\n	\n\n	Thursday\, November 8\, 2012\n\n	Evergreen Lake House\n\n	Lunch: 11- 2   Minimum $25 donation\n\n	\n\n	Choose a beautiful hand-made bowl as our gift plus enjoy a meal in a bowl and entertainment\n\n	with neighbors & friends.\n\n	\n\n	Tickets may be purchased in advance: MRC\, 11030 Kitty Drive\, Conifer\n\n	online at www. mrcco.org or by phone\, 303-838-7552\n\n	\n\n	In honor of our veterans\, you may purchase a ticket to donate to a veteran in our community\n\n	as a thank you for service to our country.\n\n	\n\n	Space is limited! Get your tickets now and ensure a spot.
X-ALT-DESC;FMTTYPE=text/html:<p style="text-align: center">\n	<span style="font-size: 16px"><strong><em>Fill A Soup Bowl . . . Change a Life! </em><br />\n	<br />\n	Empty Bowls at Mountain Resource Center</strong></span><br />\n	<br />\n	Mountain Resource Center benefit to raise money to fight hunger<br />\n	and support struggling mountain area families<br />\n	<br />\n	<br />\n	<br />\n	Thursday\, November 8\, 2012<br />\n	Evergreen Lake House<br />\n	Lunch: 11- 2 &#9679\; Minimum $25 donation<br />\n	<br />\n	Choose a beautiful hand-made bowl as our gift plus enjoy a meal in a bowl and entertainment<br />\n	with neighbors &amp\; friends.<br />\n	<br />\n	Tickets may be purchased in advance: MRC\, 11030 Kitty Drive\, Conifer<br />\n	online at www. mrcco.org or by phone\, 303-838-7552<br />\n	<br />\n	In honor of our veterans\, you may purchase a ticket to donate to a veteran in our community<br />\n	as a thank you for service to our country.<br />\n	<br />\n	Space is limited! Get your tickets now and ensure a spot.</p>\n<br />\n
LOCATION:Evergreen Lake House
UID:e.692.1353
SEQUENCE:3
DTSTAMP:20260424T160357Z
URL:https://business.goconifer.com/events/details/empty-bowls-11-08-2012-1353
END:VEVENT

END:VCALENDAR
