BEGIN:VCALENDAR
VERSION:2.0
PRODID:-//ChamberMaster//Event Calendar 2.0//EN
METHOD:PUBLISH
X-PUBLISHED-TTL:P3D
REFRESH-INTERVAL:P3D
CALSCALE:GREGORIAN
BEGIN:VEVENT
DTSTART:20141105T180000Z
DTEND:20141106T210000Z
X-MICROSOFT-CDO-ALLDAYEVENT:FALSE
SUMMARY:Empty Bowls
DESCRIPTION:Mountain Resource Center's Empty Bowls Project\, which benefits struggling neighbors in our mountain community\, is part of an international grassroots effort to end hunger and food insecurity. Empty Bowls Conifer will be held on Wednesday\, November 5 at Mountain Resource Center\, 11030 Kitty Drive\, with lunch from 11 -2 and supper from 5 -8. Empty Bowls Evergreen will be held on Thursday\, November 6 at the Lake House with lunch from 11 - 2. For a minimum donation of $25\, guests enjoy a delectable meal of soups\, breads and desserts prepared by our local restaurants and caterers while listening to music provided by local entertainers. Guests are also invited to keep a handmade bowl as a reminder of all the empty bowls in the world. Tickets may be purchased by calling 303-838-7552 or online at http://www.mrcco.org.
X-ALT-DESC;FMTTYPE=text/html:Mountain Resource Center&#39\;s Empty Bowls Project\, which benefits struggling neighbors in our mountain community\, is part of an international grassroots effort to end hunger and food insecurity. Empty Bowls Conifer will be held on Wednesday\, November 5 at Mountain Resource Center\, 11030 Kitty Drive\, with lunch from 11 -2 and supper from 5 -8. Empty Bowls Evergreen will be held on Thursday\, November 6 at the Lake House with lunch from 11 - 2. For a minimum donation of $25\, guests enjoy a delectable meal of soups\, breads and desserts prepared by our local restaurants and caterers while listening to music provided by local entertainers. Guests are also invited to keep a handmade bowl as a reminder of all the empty bowls in the world. Tickets may be purchased by calling 303-838-7552 or online at http://www.mrcco.org.
LOCATION:Mountain Resource Center
UID:e.692.3261
SEQUENCE:3
DTSTAMP:20260423T044048Z
URL:https://business.goconifer.com/events/details/empty-bowls-11-05-2014-3261
END:VEVENT

END:VCALENDAR
