BEGIN:VCALENDAR
VERSION:2.0
PRODID:-//ChamberMaster//Event Calendar 2.0//EN
METHOD:PUBLISH
X-PUBLISHED-TTL:P3D
REFRESH-INTERVAL:P3D
CALSCALE:GREGORIAN
BEGIN:VEVENT
DTSTART:20160603T003000Z
DTEND:20160603T023000Z
X-MICROSOFT-CDO-ALLDAYEVENT:FALSE
SUMMARY:Emotional Aromatherapy Class FREE!
DESCRIPTION:Come and learn how aromatherpy can be used to treat and enhance your emotions!  This class is Free to the public! We will cover how aromatherpy works with our bodies and how aromatherpy can affect and balance your emotions\, including remedies for depression and anxiety\, stress relief\, menopausal symptoms\, overcoming grief and maintaining a healthy state of mind!  Please call Mountain View Acupuncture & Nutrition to enroll\, 720-838-1365.\n\n\n\nWe will need a head count in advance so that we have enough handouts and materials for everyone!  Free essential oil samples will be provided to all participants!
X-ALT-DESC;FMTTYPE=text/html:Come and learn how aromatherpy can be used to treat and enhance your emotions! &nbsp\;This class is Free to the public! We will cover how aromatherpy works with our bodies and how aromatherpy can affect and balance your emotions\, including remedies for depression and anxiety\, stress relief\, menopausal symptoms\, overcoming grief and maintaining a healthy state of mind! &nbsp\;Please call Mountain View Acupuncture &amp\; Nutrition to enroll\, 720-838-1365.<br />\n<br />\nWe will need a head count in advance so that we have enough handouts and materials for everyone! &nbsp\;Free essential oil samples will be provided to all participants!
LOCATION:Mountain View Acupuncture & Nutrition 460 Park County Rt. 43\, lower level\, in the rear of the building Bailey\, CO 720-838-1365
UID:e.692.18829
SEQUENCE:3
DTSTAMP:20260421T222629Z
URL:https://business.goconifer.com/events/details/emotional-aromatherapy-class-free-06-02-2016-18829
END:VEVENT

END:VCALENDAR
