BEGIN:VCALENDAR
VERSION:2.0
PRODID:-//ChamberMaster//Event Calendar 2.0//EN
METHOD:PUBLISH
X-PUBLISHED-TTL:P3D
REFRESH-INTERVAL:P3D
CALSCALE:GREGORIAN
BEGIN:VEVENT
DTSTART:20140910T190000Z
DTEND:20140910T200000Z
X-MICROSOFT-CDO-ALLDAYEVENT:FALSE
SUMMARY:Emergency Preparedness
DESCRIPTION:Ron Celentano from the Jefferson County Sheriff's Office will present information on emergency preparedness. He will discuss how to sign up for emergency notifications\, how to plan for pets in advance\, Smart911\, and other related topics.\n\n\n\nPlease RSVP to Senior Resource Center\, (303) 674-2843
X-ALT-DESC;FMTTYPE=text/html:Ron Celentano from the Jefferson County Sheriff&#39\;s Office will present information on emergency preparedness. He will discuss how to sign up for emergency notifications\, how to plan for pets in advance\, Smart911\, and other related topics.<br />\n<br />\nPlease RSVP to Senior Resource Center\, (303) 674-2843
LOCATION:Senior Resource Center\, 5120 Hwy 73\, Evergreen
UID:e.692.3302
SEQUENCE:3
DTSTAMP:20260423T073814Z
URL:https://business.goconifer.com/events/details/emergency-preparedness-09-10-2014-3302
END:VEVENT

END:VCALENDAR
