BEGIN:VCALENDAR
VERSION:2.0
PRODID:-//ChamberMaster//Event Calendar 2.0//EN
METHOD:PUBLISH
X-PUBLISHED-TTL:P3D
REFRESH-INTERVAL:P3D
CALSCALE:GREGORIAN
BEGIN:VEVENT
DTSTART:20100522T160000Z
DTEND:20100522T210000Z
X-MICROSOFT-CDO-ALLDAYEVENT:FALSE
SUMMARY:Elk Creek Fire Department Annual Safety Fair
DESCRIPTION:ECFD 3rd annual Safety Fair  \n\nFeaturing information on: Wildfire planning and mitigation.\n\nWith: Jr Firefighter course\, Free bike helmets and bike safety course\, Child car seat inspections\, Child ID kits\, Fire truck tours and "jaws of life" extrication demonstration\, Colorado State Patrol crash simulator\, St. Anthony's Flight for Life helicopter landing (weather permitting) and many more community safety resources represented. Food will be available at the local restaurants.
X-ALT-DESC;FMTTYPE=text/html:ECFD 3rd annual Safety Fair  \n<br>Featuring information on: Wildfire planning and mitigation.\n<br>With: Jr Firefighter course\, Free bike helmets and bike safety course\, Child car seat inspections\, Child ID kits\, Fire truck tours and "jaws of life" extrication demonstration\, Colorado State Patrol crash simulator\, St. Anthony's Flight for Life helicopter landing (weather permitting) and many more community safety resources represented. Food will be available at the local restaurants.
LOCATION:The Village at Aspen Park (King Soopers)
UID:e.692.375
SEQUENCE:3
DTSTAMP:20260424T130939Z
URL:https://business.goconifer.com/events/details/elk-creek-fire-department-annual-safety-fair-05-22-2010-375
END:VEVENT

END:VCALENDAR
