BEGIN:VCALENDAR
VERSION:2.0
PRODID:-//ChamberMaster//Event Calendar 2.0//EN
METHOD:PUBLISH
X-PUBLISHED-TTL:P3D
REFRESH-INTERVAL:P3D
CALSCALE:GREGORIAN
BEGIN:VEVENT
DTSTART:20130713T170000Z
DTEND:20130714T010000Z
X-MICROSOFT-CDO-ALLDAYEVENT:FALSE
SUMMARY:Elevation Celebration: A Summer Street Faire
DESCRIPTION:Join us for the first Elevation Celebration!\n\nA free summer street faire with artisans\, vendors\, live music\, and a 5K run.
X-ALT-DESC;FMTTYPE=text/html:Join us for the first Elevation Celebration!<br />\nA free summer street faire with artisans\, vendors\, live music\, and a 5K run.
LOCATION:On Sutton Road between Dallman and Taylor Roads in Conifer
UID:e.692.1481
SEQUENCE:3
DTSTAMP:20260424T032146Z
URL:https://business.goconifer.com/events/details/elevation-celebration-a-summer-street-faire-07-13-2013-1481
END:VEVENT

END:VCALENDAR
