BEGIN:VCALENDAR
VERSION:2.0
PRODID:-//ChamberMaster//Event Calendar 2.0//EN
METHOD:PUBLISH
X-PUBLISHED-TTL:P3D
REFRESH-INTERVAL:P3D
CALSCALE:GREGORIAN
BEGIN:VEVENT
DTSTART;VALUE=DATE:20160730
DTEND;VALUE=DATE:20160801
TRANSP:TRANSPARENT
X-MICROSOFT-CDO-ALLDAYEVENT:TRUE
SUMMARY:Elevation Celebration
DESCRIPTION:A free community street faire. Check out our website at GoConifer.com for details.
X-ALT-DESC;FMTTYPE=text/html:A free community street faire. Check out our website at GoConifer.com for details.&nbsp\;
LOCATION:
UID:e.692.18112
SEQUENCE:3
DTSTAMP:20260421T193309Z
URL:https://business.goconifer.com/events/details/elevation-celebration-07-30-2016-18112
END:VEVENT

END:VCALENDAR
