BEGIN:VCALENDAR
VERSION:2.0
PRODID:-//ChamberMaster//Event Calendar 2.0//EN
METHOD:PUBLISH
X-PUBLISHED-TTL:P3D
REFRESH-INTERVAL:P3D
CALSCALE:GREGORIAN
BEGIN:VEVENT
DTSTART:20140712T130000Z
DTEND:20140712T160000Z
X-MICROSOFT-CDO-ALLDAYEVENT:FALSE
SUMMARY:Elevation 5K Run/Walk
DESCRIPTION:Conifer Lobos Unified Boosters (CLUB) and Conifer Area Council Trails Team present Elevation 5K Run/Walk.\n\n\n\nSupport Conifer High School Athletic Fields Improvement Project - Run the Trails\, Light the Lights!\n\n\n\nThis event is for everyone\, including a Family Dash and Dog Walk. The course trail takes you around the scenic Aspen Park neighborhoods of Conifer\, at an elevation of 8\,100 feet! Walkers and families have the option of a shortened 2 mile course.\n\nRegister at www.CLUBCHS.org & Active.com
X-ALT-DESC;FMTTYPE=text/html:Conifer Lobos Unified Boosters (CLUB) and Conifer Area Council Trails Team present Elevation 5K Run/Walk.<br />\n<br />\nSupport Conifer High School Athletic Fields Improvement Project - Run the Trails\, Light the Lights!<br />\n<br />\nThis event is for everyone\, including a Family Dash and Dog Walk. The course trail takes you around the scenic Aspen Park neighborhoods of Conifer\, at an elevation of 8\,100 feet! Walkers and families have the option of a shortened 2 mile course.<br />\nRegister at <a href="http://clubchs.org/5k">www.CLUBCHS.org</a> &amp\;<a href="http://www.active.com/conifer-co/running/races/elevation-5k-run-walk-and-family-dash-and-dog-walk-2014?int=72-3-A4"> Active.com</a>
LOCATION:West Jeff Elementary School\, 26501 Barkley Road\, Conifer
UID:e.692.1535
SEQUENCE:3
DTSTAMP:20260423T103705Z
URL:https://business.goconifer.com/events/details/elevation-5k-run-walk-07-12-2014-1535
END:VEVENT

END:VCALENDAR
