BEGIN:VCALENDAR
VERSION:2.0
PRODID:-//ChamberMaster//Event Calendar 2.0//EN
METHOD:PUBLISH
X-PUBLISHED-TTL:P3D
REFRESH-INTERVAL:P3D
CALSCALE:GREGORIAN
BEGIN:VEVENT
DTSTART:20130709T143000Z
DTEND:20130709T143000Z
X-MICROSOFT-CDO-ALLDAYEVENT:FALSE
SUMMARY:Electronics Recycling Collection Event
DESCRIPTION:As of July 2013\, it will be illegal for residents of Colorado to throw away or dump e-wast in their waste streams.  All electronics must be recycled.  Colorado Statute SF12-133.  With that in mind Recycle Responsibly and Protect your Identity!  Metech Recycling provides secure shredding of all data containing devises so no one can access your personal Information.  This event will benefit EChO.
X-ALT-DESC;FMTTYPE=text/html:<span style="font-family: verdana\, sans-serif\; font-size: 12.8px\;">As of July 2013\, it will be illegal for residents of Colorado to throw away or dump e-wast in their waste streams. &nbsp\;All electronics must be recycled. &nbsp\;Colorado Statute SF12-133. &nbsp\;With that in mind Recycle Responsibly and Protect your Identity!&nbsp\;&nbsp\;Metech Recycling provides secure shredding of all data containing devises so no one can access your personal Information. &nbsp\;This event will benefit EChO.</span>
LOCATION:EChO Resale Parking Lot - 3763 Evergreen Parkway
UID:e.692.1494
SEQUENCE:3
DTSTAMP:20260424T031758Z
URL:https://business.goconifer.com/events/details/electronics-recycling-collection-event-07-09-2013-1494
END:VEVENT

END:VCALENDAR
